BEGIN:VCALENDAR
VERSION:2.0
PRODID:-//CDB Yvelines - ECPv6.15.13.1//NONSGML v1.0//EN
CALSCALE:GREGORIAN
METHOD:PUBLISH
X-WR-CALNAME:CDB Yvelines
X-ORIGINAL-URL:https://cdby.fr
X-WR-CALDESC:Évènements pour CDB Yvelines
REFRESH-INTERVAL;VALUE=DURATION:PT1H
X-Robots-Tag:noindex
X-PUBLISHED-TTL:PT1H
BEGIN:VTIMEZONE
TZID:Europe/Paris
BEGIN:DAYLIGHT
TZOFFSETFROM:+0100
TZOFFSETTO:+0200
TZNAME:CEST
DTSTART:20250330T010000
END:DAYLIGHT
BEGIN:STANDARD
TZOFFSETFROM:+0200
TZOFFSETTO:+0100
TZNAME:CET
DTSTART:20251026T010000
END:STANDARD
BEGIN:DAYLIGHT
TZOFFSETFROM:+0100
TZOFFSETTO:+0200
TZNAME:CEST
DTSTART:20260329T010000
END:DAYLIGHT
BEGIN:STANDARD
TZOFFSETFROM:+0200
TZOFFSETTO:+0100
TZNAME:CET
DTSTART:20261025T010000
END:STANDARD
BEGIN:DAYLIGHT
TZOFFSETFROM:+0100
TZOFFSETTO:+0200
TZNAME:CEST
DTSTART:20270328T010000
END:DAYLIGHT
BEGIN:STANDARD
TZOFFSETFROM:+0200
TZOFFSETTO:+0100
TZNAME:CET
DTSTART:20271031T010000
END:STANDARD
END:VTIMEZONE
BEGIN:VEVENT
DTSTART;TZID=Europe/Paris:20260506T183000
DTEND;TZID=Europe/Paris:20260506T213000
DTSTAMP:20260421T123259
CREATED:20260313T144911Z
LAST-MODIFIED:20260313T144911Z
UID:12627-1778092200-1778103000@cdby.fr
SUMMARY:Stage formation M. Nole - Mercredi 6 mai - 18h30-21h30 - Voisins
DESCRIPTION:Stage formation M. Nole – Mercredi 6 mai – 18h30-21h30 – Voisins
URL:https://cdby.fr/event/stage-formation-m-nole-mercredi-6-mai-18h30-21h30-voisins/
LOCATION:BCV (Billard Club Vicinois)\, 6\, rue Claude Debussy\, Voisins-le-Bretonneux\, 78960
CATEGORIES:Formation sportive
ORGANIZER;CN="CDBY - formation":MAILTO:formation@cdby.fr
END:VEVENT
BEGIN:VEVENT
DTSTART;TZID=Europe/Paris:20260509T090000
DTEND;TZID=Europe/Paris:20260509T170000
DTSTAMP:20260421T123259
CREATED:20251017T142845Z
LAST-MODIFIED:20260420T085640Z
UID:12389-1778317200-1778346000@cdby.fr
SUMMARY:CADRE R1 T2 09-05-2026
DESCRIPTION:
URL:https://cdby.fr/event/cadre-r1-t2-10-05-2026/
LOCATION:ASEV (Association St-Etienne de Vernouillet )\, 6\, rue du Val de Seine\, Vernouillet\, 78540\, France
CATEGORIES:Régional 1
END:VEVENT
BEGIN:VEVENT
DTSTART;TZID=Europe/Paris:20260509T140000
DTEND;TZID=Europe/Paris:20260509T170000
DTSTAMP:20260421T123259
CREATED:20260417T061929Z
LAST-MODIFIED:20260417T061929Z
UID:12673-1778335200-1778346000@cdby.fr
SUMMARY:Stage Formation M. Louis Edelin - Conflans - 9 mai - 14h-17h
DESCRIPTION:FORMATION par MR LOUIS EDELIN \n\na conflans le 9 mai de 14 a 17 h
URL:https://cdby.fr/event/stage-formation-m-louis-edelin-conflans-9-mai-14h-17h/
LOCATION:USC (U. S. CONFLANS)\, 1\, rue Charles Bourseul\, Conflans-Sainte-Honorine\, 78700\, France
CATEGORIES:Formation sportive
ORGANIZER;CN="CDBY - formation":MAILTO:formation@cdby.fr
END:VEVENT
BEGIN:VEVENT
DTSTART;TZID=Europe/Paris:20260517T090000
DTEND;TZID=Europe/Paris:20260517T170000
DTSTAMP:20260421T123259
CREATED:20251017T143120Z
LAST-MODIFIED:20251017T143120Z
UID:12393-1779008400-1779037200@cdby.fr
SUMMARY:LIBRE R4 T2 W/E DES 16/17-05-2026
DESCRIPTION:
URL:https://cdby.fr/event/libre-r4-t2-w-e-des-16-17-05-2026/
CATEGORIES:Régional 4
END:VEVENT
BEGIN:VEVENT
DTSTART;TZID=Europe/Paris:20260606T090000
DTEND;TZID=Europe/Paris:20260606T170000
DTSTAMP:20260421T123259
CREATED:20251017T144136Z
LAST-MODIFIED:20251017T144136Z
UID:12402-1780736400-1780765200@cdby.fr
SUMMARY:CADRE 42/2 R1 FINALE CDBY 06-06-2026
DESCRIPTION:
URL:https://cdby.fr/event/cadre-42-2-r1-finale-cdby-06-06-2026/
LOCATION:USC (U. S. CONFLANS)\, 1\, rue Charles Bourseul\, Conflans-Sainte-Honorine\, 78700\, France
CATEGORIES:Régional 1
END:VEVENT
BEGIN:VEVENT
DTSTART;TZID=Europe/Paris:20260614T090000
DTEND;TZID=Europe/Paris:20260614T170000
DTSTAMP:20260421T123259
CREATED:20251017T144312Z
LAST-MODIFIED:20251017T144312Z
UID:12405-1781427600-1781456400@cdby.fr
SUMMARY:LIBRE R4 FINALE CDBY 14-06-2026
DESCRIPTION:
URL:https://cdby.fr/event/libre-r4-finale-cdby-14-06-2026/
LOCATION:ARBV (Académie Royale de Billard de Versailles)\, 6\, rue Edmé Frémy\, Versailles\, 78000\, France
CATEGORIES:Régional 4
END:VEVENT
END:VCALENDAR