BEGIN:VCALENDAR
VERSION:2.0
PRODID:-//CDB Yvelines - ECPv6.15.20//NONSGML v1.0//EN
CALSCALE:GREGORIAN
METHOD:PUBLISH
X-WR-CALNAME:CDB Yvelines
X-ORIGINAL-URL:http://cdby.fr
X-WR-CALDESC:Évènements pour CDB Yvelines
REFRESH-INTERVAL;VALUE=DURATION:PT1H
X-Robots-Tag:noindex
X-PUBLISHED-TTL:PT1H
BEGIN:VTIMEZONE
TZID:Europe/Paris
BEGIN:DAYLIGHT
TZOFFSETFROM:+0100
TZOFFSETTO:+0200
TZNAME:CEST
DTSTART:20210328T010000
END:DAYLIGHT
BEGIN:STANDARD
TZOFFSETFROM:+0200
TZOFFSETTO:+0100
TZNAME:CET
DTSTART:20211031T010000
END:STANDARD
BEGIN:DAYLIGHT
TZOFFSETFROM:+0100
TZOFFSETTO:+0200
TZNAME:CEST
DTSTART:20220327T010000
END:DAYLIGHT
BEGIN:STANDARD
TZOFFSETFROM:+0200
TZOFFSETTO:+0100
TZNAME:CET
DTSTART:20221030T010000
END:STANDARD
BEGIN:DAYLIGHT
TZOFFSETFROM:+0100
TZOFFSETTO:+0200
TZNAME:CEST
DTSTART:20230326T010000
END:DAYLIGHT
BEGIN:STANDARD
TZOFFSETFROM:+0200
TZOFFSETTO:+0100
TZNAME:CET
DTSTART:20231029T010000
END:STANDARD
END:VTIMEZONE
BEGIN:VEVENT
DTSTART;TZID=Europe/Paris:20220403T090000
DTEND;TZID=Europe/Paris:20220403T170000
DTSTAMP:20260423T025436
CREATED:20210907T121829Z
LAST-MODIFIED:20220306T222039Z
UID:6926-1648976400-1649005200@cdby.fr
SUMMARY:LIBRE R4-FINALE CDBY-03/04/2022
DESCRIPTION:
URL:http://cdby.fr/event/libre-r4-finale-cdby-02-04-2022/
LOCATION:ARBV (Académie Royale de Billard de Versailles)\, 6\, rue Edmé Frémy\, Versailles\, 78000\, France
CATEGORIES:Régional 4
END:VEVENT
BEGIN:VEVENT
DTSTART;TZID=Europe/Paris:20220409T090000
DTEND;TZID=Europe/Paris:20220409T170000
DTSTAMP:20260423T025436
CREATED:20210907T122054Z
LAST-MODIFIED:20210907T123152Z
UID:6928-1649494800-1649523600@cdby.fr
SUMMARY:BANDE R1-FINALE CDBY-09/04/2022
DESCRIPTION:
URL:http://cdby.fr/event/bande-r1-finale-cdby-09-04-2022/
LOCATION:USC (U. S. CONFLANS)\, 1\, rue Charles Bourseul\, Conflans-Sainte-Honorine\, 78700\, France
CATEGORIES:Régional 1
END:VEVENT
BEGIN:VEVENT
DTSTART;TZID=Europe/Paris:20220423T090000
DTEND;TZID=Europe/Paris:20220423T170000
DTSTAMP:20260423T025436
CREATED:20210907T122259Z
LAST-MODIFIED:20210907T122259Z
UID:6930-1650704400-1650733200@cdby.fr
SUMMARY:LIBRE R1-FINALE CDBY-23/04/2022
DESCRIPTION:
URL:http://cdby.fr/event/libre-r1-finale-cdby-23-04-2022/
LOCATION:ASEV (Association St-Etienne de Vernouillet )\, 6\, rue du Val de Seine\, Vernouillet\, 78540\, France
CATEGORIES:Régional 1
END:VEVENT
BEGIN:VEVENT
DTSTART;TZID=Europe/Paris:20220424T090000
DTEND;TZID=Europe/Paris:20220424T170000
DTSTAMP:20260423T025436
CREATED:20210907T122430Z
LAST-MODIFIED:20210907T122430Z
UID:6932-1650790800-1650819600@cdby.fr
SUMMARY:LIBRE R3-FINALE CDBY-24/04/2022
DESCRIPTION:
URL:http://cdby.fr/event/libre-r3-finale-cdby-24-04-2022/
LOCATION:BCV (Billard Club Vicinois)\, 6\, rue Claude Debussy\, Voisins-le-Bretonneux\, 78960
CATEGORIES:Régional 3
END:VEVENT
END:VCALENDAR