BEGIN:VCALENDAR
VERSION:2.0
PRODID:-//CDB Yvelines - ECPv6.15.20//NONSGML v1.0//EN
CALSCALE:GREGORIAN
METHOD:PUBLISH
X-WR-CALNAME:CDB Yvelines
X-ORIGINAL-URL:http://cdby.fr
X-WR-CALDESC:Évènements pour CDB Yvelines
REFRESH-INTERVAL;VALUE=DURATION:PT1H
X-Robots-Tag:noindex
X-PUBLISHED-TTL:PT1H
BEGIN:VTIMEZONE
TZID:Europe/Paris
BEGIN:DAYLIGHT
TZOFFSETFROM:+0100
TZOFFSETTO:+0200
TZNAME:CEST
DTSTART:20210328T010000
END:DAYLIGHT
BEGIN:STANDARD
TZOFFSETFROM:+0200
TZOFFSETTO:+0100
TZNAME:CET
DTSTART:20211031T010000
END:STANDARD
BEGIN:DAYLIGHT
TZOFFSETFROM:+0100
TZOFFSETTO:+0200
TZNAME:CEST
DTSTART:20220327T010000
END:DAYLIGHT
BEGIN:STANDARD
TZOFFSETFROM:+0200
TZOFFSETTO:+0100
TZNAME:CET
DTSTART:20221030T010000
END:STANDARD
BEGIN:DAYLIGHT
TZOFFSETFROM:+0100
TZOFFSETTO:+0200
TZNAME:CEST
DTSTART:20230326T010000
END:DAYLIGHT
BEGIN:STANDARD
TZOFFSETFROM:+0200
TZOFFSETTO:+0100
TZNAME:CET
DTSTART:20231029T010000
END:STANDARD
END:VTIMEZONE
BEGIN:VEVENT
DTSTART;TZID=Europe/Paris:20220105T093000
DTEND;TZID=Europe/Paris:20220105T123000
DTSTAMP:20260423T121353
CREATED:20211011T080353Z
LAST-MODIFIED:20211011T080644Z
UID:7069-1641375000-1641385800@cdby.fr
SUMMARY:Formation Carambole Voisins 05/01/2022
DESCRIPTION:Inscription auprès de Stéphane Nole au 06-62-32-09-90.
URL:http://cdby.fr/event/formation-carambole-voisins-05-01-2022/
LOCATION:BCV (Billard Club Vicinois)\, 6\, rue Claude Debussy\, Voisins-le-Bretonneux\, 78960
CATEGORIES:Formation sportive
ATTACH;FMTTYPE=image/png:http://cdby.fr/wp-content/uploads/2017/08/EcuVoisins.png
ORGANIZER;CN="CDBY - formation":MAILTO:formation@cdby.fr
END:VEVENT
BEGIN:VEVENT
DTSTART;TZID=Europe/Paris:20220106T190000
DTEND;TZID=Europe/Paris:20220106T220000
DTSTAMP:20260423T121353
CREATED:20211020T134859Z
LAST-MODIFIED:20211020T135722Z
UID:7102-1641495600-1641506400@cdby.fr
SUMMARY:Formation Carambole Conflans 06/01/2022
DESCRIPTION:Inscription auprès de Stéphane Nole au 06-62-32-09-90.
URL:http://cdby.fr/event/formation-carambole-conflans-06-01-2022/
LOCATION:USC (U. S. CONFLANS)\, 1\, rue Charles Bourseul\, Conflans-Sainte-Honorine\, 78700\, France
CATEGORIES:Formation sportive
ATTACH;FMTTYPE=image/png:http://cdby.fr/wp-content/uploads/2017/08/EcuConflans.png
ORGANIZER;CN="CDBY - formation":MAILTO:formation@cdby.fr
END:VEVENT
BEGIN:VEVENT
DTSTART;TZID=Europe/Paris:20220108T090000
DTEND;TZID=Europe/Paris:20220108T170000
DTSTAMP:20260423T121353
CREATED:20210906T161947Z
LAST-MODIFIED:20220104T071012Z
UID:6893-1641632400-1641661200@cdby.fr
SUMMARY:CADRE 42/2 R1-T2-08/01/2022
DESCRIPTION:
URL:http://cdby.fr/event/cadre-42-2-r1-t2-08-01-2022/
CATEGORIES:Régional 1
END:VEVENT
BEGIN:VEVENT
DTSTART;TZID=Europe/Paris:20220108T090000
DTEND;TZID=Europe/Paris:20220108T170000
DTSTAMP:20260423T121353
CREATED:20210918T092510Z
LAST-MODIFIED:20220104T071412Z
UID:6994-1641632400-1641661200@cdby.fr
SUMMARY:BANDE N3-T1-08/01/2022
DESCRIPTION:
URL:http://cdby.fr/event/bande-n3-t1-8-01-2022/
CATEGORIES:National 3
END:VEVENT
BEGIN:VEVENT
DTSTART;TZID=Europe/Paris:20220108T090000
DTEND;TZID=Europe/Paris:20220108T170000
DTSTAMP:20260423T121353
CREATED:20220110T222421Z
LAST-MODIFIED:20220110T222421Z
UID:7338-1641632400-1641661200@cdby.fr
SUMMARY:CADRE 42/2 R1-T2-08/01/2022
DESCRIPTION:
URL:http://cdby.fr/event/cadre-42-2-r1-t2-08-01-2022-2/
CATEGORIES:Régional 1
END:VEVENT
BEGIN:VEVENT
DTSTART;TZID=Europe/Paris:20220108T090000
DTEND;TZID=Europe/Paris:20220108T170000
DTSTAMP:20260423T121353
CREATED:20220110T223231Z
LAST-MODIFIED:20220110T223231Z
UID:7340-1641632400-1641661200@cdby.fr
SUMMARY:CADRE 42/2 R1-T2-08/01/2022
DESCRIPTION:
URL:http://cdby.fr/event/cadre-42-2-r1-t2-08-01-2022-2-2/
CATEGORIES:Régional 1
END:VEVENT
BEGIN:VEVENT
DTSTART;TZID=Europe/Paris:20220108T090000
DTEND;TZID=Europe/Paris:20220108T170000
DTSTAMP:20260423T121353
CREATED:20220110T224044Z
LAST-MODIFIED:20220110T224044Z
UID:7342-1641632400-1641661200@cdby.fr
SUMMARY:CADRE 42/2 R1-T2-08/01/2022
DESCRIPTION:
URL:http://cdby.fr/event/cadre-42-2-r1-t2-08-01-2022-2-2-2/
CATEGORIES:Régional 1
END:VEVENT
BEGIN:VEVENT
DTSTART;TZID=Europe/Paris:20220108T090000
DTEND;TZID=Europe/Paris:20220108T170000
DTSTAMP:20260423T121353
CREATED:20220110T225453Z
LAST-MODIFIED:20220110T225453Z
UID:7344-1641632400-1641661200@cdby.fr
SUMMARY:BANDE N3-T1-08/01/2022
DESCRIPTION:
URL:http://cdby.fr/event/bande-n3-t1-8-01-2022-2/
CATEGORIES:National 3
END:VEVENT
BEGIN:VEVENT
DTSTART;TZID=Europe/Paris:20220108T090000
DTEND;TZID=Europe/Paris:20220108T170000
DTSTAMP:20260423T121353
CREATED:20220110T230122Z
LAST-MODIFIED:20220110T230122Z
UID:7346-1641632400-1641661200@cdby.fr
SUMMARY:BANDE N3-T1-08/01/2022
DESCRIPTION:
URL:http://cdby.fr/event/bande-n3-t1-8-01-2022-2-2/
CATEGORIES:National 3
END:VEVENT
BEGIN:VEVENT
DTSTART;TZID=Europe/Paris:20220108T090000
DTEND;TZID=Europe/Paris:20220108T170000
DTSTAMP:20260423T121353
CREATED:20220110T230424Z
LAST-MODIFIED:20220110T230424Z
UID:7348-1641632400-1641661200@cdby.fr
SUMMARY:BANDE N3-T1-08/01/2022
DESCRIPTION:
URL:http://cdby.fr/event/bande-n3-t1-8-01-2022-2-2-2/
CATEGORIES:National 3
END:VEVENT
BEGIN:VEVENT
DTSTART;TZID=Europe/Paris:20220110T180000
DTEND;TZID=Europe/Paris:20220110T210000
DTSTAMP:20260423T121353
CREATED:20211020T135352Z
LAST-MODIFIED:20211020T135738Z
UID:7112-1641837600-1641848400@cdby.fr
SUMMARY:Formation Carambole Vernouillet 10/01/2022
DESCRIPTION:Inscription auprès de Stéphane Nole au 06-62-32-09-90.
URL:http://cdby.fr/event/formation-carambole-vernouillet-10-01-2022/
LOCATION:ASEV (Association St-Etienne de Vernouillet )\, 6\, rue du Val de Seine\, Vernouillet\, 78540\, France
CATEGORIES:Formation sportive
ATTACH;FMTTYPE=image/png:http://cdby.fr/wp-content/uploads/2017/08/EcuVernouillet.png
ORGANIZER;CN="CDBY - formation":MAILTO:formation@cdby.fr
END:VEVENT
BEGIN:VEVENT
DTSTART;TZID=Europe/Paris:20220113T093000
DTEND;TZID=Europe/Paris:20220113T123000
DTSTAMP:20260423T121353
CREATED:20211020T135154Z
LAST-MODIFIED:20211020T135751Z
UID:7108-1642066200-1642077000@cdby.fr
SUMMARY:Formation Carambole Beynes 13/01/2022
DESCRIPTION:Inscription auprès de Stéphane Nole au 06-62-32-09-90.
URL:http://cdby.fr/event/formation-carambole-beynes-13-01-2022/
LOCATION:BBC (Beynes Billard Carambole)\, Rue du commerce - Val des 4 pignons\, Beynes\, 78650\, France
CATEGORIES:Formation sportive
ATTACH;FMTTYPE=image/png:http://cdby.fr/wp-content/uploads/2017/08/EcuBeynes.png
ORGANIZER;CN="CDBY - formation":MAILTO:formation@cdby.fr
END:VEVENT
BEGIN:VEVENT
DTSTART;TZID=Europe/Paris:20220114T093000
DTEND;TZID=Europe/Paris:20220114T123000
DTSTAMP:20260423T121353
CREATED:20211020T134554Z
LAST-MODIFIED:20211020T135804Z
UID:7096-1642152600-1642163400@cdby.fr
SUMMARY:Formation Carambole Versailles 14/01/2022
DESCRIPTION:Inscription auprès de Stéphane Nole au 06-62-32-09-90.
URL:http://cdby.fr/event/formation-carambole-versailles-14-01-2022/
LOCATION:ARBV (Académie Royale de Billard de Versailles)\, 6\, rue Edmé Frémy\, Versailles\, 78000\, France
CATEGORIES:Formation sportive
ATTACH;FMTTYPE=image/png:http://cdby.fr/wp-content/uploads/2017/08/EcuVersailles.png
ORGANIZER;CN="CDBY - formation":MAILTO:formation@cdby.fr
END:VEVENT
BEGIN:VEVENT
DTSTART;TZID=Europe/Paris:20220115T090000
DTEND;TZID=Europe/Paris:20220115T170000
DTSTAMP:20260423T121353
CREATED:20210906T162152Z
LAST-MODIFIED:20220125T231918Z
UID:6895-1642237200-1642266000@cdby.fr
SUMMARY:CADRE 42/2 N3-T2-15/01/2022
DESCRIPTION:
URL:http://cdby.fr/event/cadre-42-2-n3-t2-15-01-2022/
CATEGORIES:National 3
END:VEVENT
BEGIN:VEVENT
DTSTART;TZID=Europe/Paris:20220122T090000
DTEND;TZID=Europe/Paris:20220122T170000
DTSTAMP:20260423T121353
CREATED:20210906T162654Z
LAST-MODIFIED:20220125T174706Z
UID:6899-1642842000-1642870800@cdby.fr
SUMMARY:BANDE N3-T2-22/01/2022
DESCRIPTION:  \n\n 
URL:http://cdby.fr/event/bande-n3t2-22-01-2022/
CATEGORIES:National 3
END:VEVENT
BEGIN:VEVENT
DTSTART;TZID=Europe/Paris:20220123T090000
DTEND;TZID=Europe/Paris:20220123T170000
DTSTAMP:20260423T121353
CREATED:20210906T162413Z
LAST-MODIFIED:20220126T225437Z
UID:6897-1642928400-1642957200@cdby.fr
SUMMARY:LIBRE R2-T2-23/01/2022
DESCRIPTION:
URL:http://cdby.fr/event/libre-r2-t2-23-01-2022/
CATEGORIES:Régional 2
END:VEVENT
BEGIN:VEVENT
DTSTART;TZID=Europe/Paris:20220129T090000
DTEND;TZID=Europe/Paris:20220129T170000
DTSTAMP:20260423T121353
CREATED:20210906T162922Z
LAST-MODIFIED:20220202T104732Z
UID:6902-1643446800-1643475600@cdby.fr
SUMMARY:LIBRE N3-T2-29/01/2022
DESCRIPTION:
URL:http://cdby.fr/event/libre-n3-t2-29-01-2022/
CATEGORIES:National 3
END:VEVENT
BEGIN:VEVENT
DTSTART;TZID=Europe/Paris:20220129T093000
DTEND;TZID=Europe/Paris:20220129T180000
DTSTAMP:20260423T121353
CREATED:20211031T102817Z
LAST-MODIFIED:20220122T105404Z
UID:7154-1643448600-1643479200@cdby.fr
SUMMARY:Formation Sportive Réservée aux NR2-29 janvier 2022
DESCRIPTION:
URL:http://cdby.fr/event/formation-sportive-reservee-aux-nr2-29-janvier2022/
LOCATION:PBC – PHOENIX BILLARD CLUB\, 8 bis avenue charles de gaulles\, LE PECQ\, 78230\, France
CATEGORIES:Formation sportive
ATTACH;FMTTYPE=image/png:http://cdby.fr/wp-content/uploads/2020/01/LOGO-PHOENIX-CLUB.png
ORGANIZER;CN="CDBY - formation":MAILTO:formation@cdby.fr
END:VEVENT
BEGIN:VEVENT
DTSTART;TZID=Europe/Paris:20220130T090000
DTEND;TZID=Europe/Paris:20220130T170000
DTSTAMP:20260423T121353
CREATED:20210902T090327Z
LAST-MODIFIED:20210904T100932Z
UID:6878-1643533200-1643562000@cdby.fr
SUMMARY:5 QUILLES N1-T2-30/01/2022
DESCRIPTION:
URL:http://cdby.fr/event/5-quilles-n1-t2-30-01-2022/
LOCATION:BCV (Billard Club Vicinois)\, 6\, rue Claude Debussy\, Voisins-le-Bretonneux\, 78960
CATEGORIES:National 1
ATTACH;FMTTYPE=image/png:http://cdby.fr/wp-content/uploads/2017/08/logo-voisins-2.png
ORGANIZER;CN="CDBY - Sportif Carambole":MAILTO:carambole@cdby.fr
END:VEVENT
BEGIN:VEVENT
DTSTART;TZID=Europe/Paris:20220130T093000
DTEND;TZID=Europe/Paris:20220130T180000
DTSTAMP:20260423T121353
CREATED:20211031T102726Z
LAST-MODIFIED:20220115T152202Z
UID:7151-1643535000-1643565600@cdby.fr
SUMMARY:Formation Sportive Réservée aux Top Ligue-30 janvier 2022
DESCRIPTION:
URL:http://cdby.fr/event/formation-sportive-reservee-aux-top-ligue-30-janvier2022/
LOCATION:PBC – PHOENIX BILLARD CLUB\, 8 bis avenue charles de gaulles\, LE PECQ\, 78230\, France
CATEGORIES:Formation sportive
ATTACH;FMTTYPE=image/png:http://cdby.fr/wp-content/uploads/2020/01/LOGO-PHOENIX-CLUB.png
ORGANIZER;CN="CDBY - formation":MAILTO:formation@cdby.fr
END:VEVENT
END:VCALENDAR