BEGIN:VCALENDAR
VERSION:2.0
PRODID:-//CDB Yvelines - ECPv6.15.20//NONSGML v1.0//EN
CALSCALE:GREGORIAN
METHOD:PUBLISH
X-WR-CALNAME:CDB Yvelines
X-ORIGINAL-URL:http://cdby.fr
X-WR-CALDESC:Évènements pour CDB Yvelines
REFRESH-INTERVAL;VALUE=DURATION:PT1H
X-Robots-Tag:noindex
X-PUBLISHED-TTL:PT1H
BEGIN:VTIMEZONE
TZID:Europe/Paris
BEGIN:DAYLIGHT
TZOFFSETFROM:+0100
TZOFFSETTO:+0200
TZNAME:CEST
DTSTART:20200329T010000
END:DAYLIGHT
BEGIN:STANDARD
TZOFFSETFROM:+0200
TZOFFSETTO:+0100
TZNAME:CET
DTSTART:20201025T010000
END:STANDARD
BEGIN:DAYLIGHT
TZOFFSETFROM:+0100
TZOFFSETTO:+0200
TZNAME:CEST
DTSTART:20210328T010000
END:DAYLIGHT
BEGIN:STANDARD
TZOFFSETFROM:+0200
TZOFFSETTO:+0100
TZNAME:CET
DTSTART:20211031T010000
END:STANDARD
BEGIN:DAYLIGHT
TZOFFSETFROM:+0100
TZOFFSETTO:+0200
TZNAME:CEST
DTSTART:20220327T010000
END:DAYLIGHT
BEGIN:STANDARD
TZOFFSETFROM:+0200
TZOFFSETTO:+0100
TZNAME:CET
DTSTART:20221030T010000
END:STANDARD
END:VTIMEZONE
BEGIN:VEVENT
DTSTART;TZID=Europe/Paris:20211204T090000
DTEND;TZID=Europe/Paris:20211204T170000
DTSTAMP:20260423T134722
CREATED:20210831T100422Z
LAST-MODIFIED:20211122T144354Z
UID:6862-1638608400-1638637200@cdby.fr
SUMMARY:3 BANDES N3-T2-04/12/2021
DESCRIPTION:
URL:http://cdby.fr/event/3-bandes-n3-t2-04-12-2021/
CATEGORIES:National 3
END:VEVENT
BEGIN:VEVENT
DTSTART;TZID=Europe/Paris:20211211T090000
DTEND;TZID=Europe/Paris:20211211T170000
DTSTAMP:20260423T134722
CREATED:20210831T100627Z
LAST-MODIFIED:20211130T181743Z
UID:6864-1639213200-1639242000@cdby.fr
SUMMARY:LIBRE R4-T2-11/12/2021
DESCRIPTION:
URL:http://cdby.fr/event/libre-r4-t2-11-12-2021/
CATEGORIES:Régional 4
END:VEVENT
BEGIN:VEVENT
DTSTART;TZID=Europe/Paris:20211211T090000
DTEND;TZID=Europe/Paris:20211211T170000
DTSTAMP:20260423T134722
CREATED:20210831T100859Z
LAST-MODIFIED:20211208T175537Z
UID:6866-1639213200-1639242000@cdby.fr
SUMMARY:CADRE 42/2-N3-T1-11/12/2021
DESCRIPTION:  \n\n  \n  \n 
URL:http://cdby.fr/event/cadre-42-2-n3-t1-11-12-2021/
CATEGORIES:National 3
END:VEVENT
BEGIN:VEVENT
DTSTART;TZID=Europe/Paris:20211211T090000
DTEND;TZID=Europe/Paris:20211211T170000
DTSTAMP:20260423T134722
CREATED:20220110T180308Z
LAST-MODIFIED:20220110T180308Z
UID:7336-1639213200-1639242000@cdby.fr
SUMMARY:LIBRE R4-T2-11/12/2021
DESCRIPTION:
URL:http://cdby.fr/event/libre-r4-t2-11-12-2021-2/
CATEGORIES:Régional 4
END:VEVENT
BEGIN:VEVENT
DTSTART;TZID=Europe/Paris:20211211T090000
DTEND;TZID=Europe/Paris:20211211T170000
DTSTAMP:20260423T134722
CREATED:20220110T235805Z
LAST-MODIFIED:20220110T235805Z
UID:7355-1639213200-1639242000@cdby.fr
SUMMARY:CADRE 42/2-N3-T1-11/12/2021
DESCRIPTION:  \n\n  \n  \n 
URL:http://cdby.fr/event/cadre-42-2-n3-t1-11-12-2021-2/
CATEGORIES:National 3
END:VEVENT
BEGIN:VEVENT
DTSTART;TZID=Europe/Paris:20211218T093000
DTEND;TZID=Europe/Paris:20211218T123000
DTSTAMP:20260423T134722
CREATED:20211020T140144Z
LAST-MODIFIED:20211208T175713Z
UID:7129-1639819800-1639830600@cdby.fr
SUMMARY:Formation Carambole Féminines 18/12/2021
DESCRIPTION:Inscription auprès de Stéphane Nole au 06-62-32-09-90.
URL:http://cdby.fr/event/formation-carambole-feminines-18-12-2021/
LOCATION:ASEV (Association St-Etienne de Vernouillet )\, 6\, rue du Val de Seine\, Vernouillet\, 78540\, France
CATEGORIES:Formation sportive
ORGANIZER;CN="CDBY - formation":MAILTO:formation@cdby.fr
END:VEVENT
END:VCALENDAR