BEGIN:VCALENDAR
VERSION:2.0
PRODID:-//CDB Yvelines - ECPv6.15.20//NONSGML v1.0//EN
CALSCALE:GREGORIAN
METHOD:PUBLISH
X-ORIGINAL-URL:http://cdby.fr
X-WR-CALDESC:Évènements pour CDB Yvelines
REFRESH-INTERVAL;VALUE=DURATION:PT1H
X-Robots-Tag:noindex
X-PUBLISHED-TTL:PT1H
BEGIN:VTIMEZONE
TZID:Europe/Paris
BEGIN:DAYLIGHT
TZOFFSETFROM:+0100
TZOFFSETTO:+0200
TZNAME:CEST
DTSTART:20200329T010000
END:DAYLIGHT
BEGIN:STANDARD
TZOFFSETFROM:+0200
TZOFFSETTO:+0100
TZNAME:CET
DTSTART:20201025T010000
END:STANDARD
BEGIN:DAYLIGHT
TZOFFSETFROM:+0100
TZOFFSETTO:+0200
TZNAME:CEST
DTSTART:20210328T010000
END:DAYLIGHT
BEGIN:STANDARD
TZOFFSETFROM:+0200
TZOFFSETTO:+0100
TZNAME:CET
DTSTART:20211031T010000
END:STANDARD
BEGIN:DAYLIGHT
TZOFFSETFROM:+0100
TZOFFSETTO:+0200
TZNAME:CEST
DTSTART:20220327T010000
END:DAYLIGHT
BEGIN:STANDARD
TZOFFSETFROM:+0200
TZOFFSETTO:+0100
TZNAME:CET
DTSTART:20221030T010000
END:STANDARD
END:VTIMEZONE
BEGIN:VEVENT
DTSTART;TZID=Europe/Paris:20211110T093000
DTEND;TZID=Europe/Paris:20211110T123000
DTSTAMP:20260423T151645
CREATED:20211011T075628Z
LAST-MODIFIED:20211011T075628Z
UID:7067-1636536600-1636547400@cdby.fr
SUMMARY:Formation Carambole Voisins 10/11/2021
DESCRIPTION:Inscription auprès de Stéphane Nole au 06-62-32-09-90.
URL:http://cdby.fr/event/formation-carambole-voisins-10-11-2021/
LOCATION:BCV (Billard Club Vicinois)\, 6\, rue Claude Debussy\, Voisins-le-Bretonneux\, 78960
CATEGORIES:Formation sportive
ATTACH;FMTTYPE=image/png:http://cdby.fr/wp-content/uploads/2017/08/EcuVoisins.png
ORGANIZER;CN="CDBY - formation":MAILTO:formation@cdby.fr
END:VEVENT
BEGIN:VEVENT
DTSTART;TZID=Europe/Paris:20211112T093000
DTEND;TZID=Europe/Paris:20211112T123000
DTSTAMP:20260423T151645
CREATED:20211020T134445Z
LAST-MODIFIED:20211020T135645Z
UID:7093-1636709400-1636720200@cdby.fr
SUMMARY:Formation Carambole Versailles 12/11/2021
DESCRIPTION:Inscription auprès de Stéphane Nole au 06-62-32-09-90.
URL:http://cdby.fr/event/formation-carambole-versailles-12-11-2021/
LOCATION:ARBV (Académie Royale de Billard de Versailles)\, 6\, rue Edmé Frémy\, Versailles\, 78000\, France
CATEGORIES:Formation sportive
ATTACH;FMTTYPE=image/png:http://cdby.fr/wp-content/uploads/2017/08/EcuVersailles.png
ORGANIZER;CN="CDBY - formation":MAILTO:formation@cdby.fr
END:VEVENT
BEGIN:VEVENT
DTSTART;TZID=Europe/Paris:20211113T090000
DTEND;TZID=Europe/Paris:20211113T170000
DTSTAMP:20260423T151645
CREATED:20210902T085742Z
LAST-MODIFIED:20211018T090050Z
UID:6875-1636794000-1636822800@cdby.fr
SUMMARY:5 QUILLES N1-T1-13/11/2021
DESCRIPTION:
URL:http://cdby.fr/event/5-quilles-n1-t1-13-11-2021/
LOCATION:BBC (Beynes Billard Carambole)\, Rue du commerce - Val des 4 pignons\, Beynes\, 78650\, France
CATEGORIES:National 1
ATTACH;FMTTYPE=image/png:http://cdby.fr/wp-content/uploads/2017/08/EcuBeynes.png
ORGANIZER;CN="CDBY - Sportif Carambole":MAILTO:carambole@cdby.fr
END:VEVENT
BEGIN:VEVENT
DTSTART;TZID=Europe/Paris:20211115T093000
DTEND;TZID=Europe/Paris:20211115T123000
DTSTAMP:20260423T151645
CREATED:20211020T135258Z
LAST-MODIFIED:20211020T135656Z
UID:7110-1636968600-1636979400@cdby.fr
SUMMARY:Formation Carambole Vernouillet 15/11/2021
DESCRIPTION:Inscription auprès de Stéphane Nole au 06-62-32-09-90.
URL:http://cdby.fr/event/formation-carambole-vernouillet-15-11-2021/
LOCATION:ASEV (Association St-Etienne de Vernouillet )\, 6\, rue du Val de Seine\, Vernouillet\, 78540\, France
CATEGORIES:Formation sportive
ATTACH;FMTTYPE=image/png:http://cdby.fr/wp-content/uploads/2017/08/EcuVernouillet.png
ORGANIZER;CN="CDBY - formation":MAILTO:formation@cdby.fr
END:VEVENT
BEGIN:VEVENT
DTSTART;TZID=Europe/Paris:20211117T093000
DTEND;TZID=Europe/Paris:20211117T123000
DTSTAMP:20260423T151645
CREATED:20211020T135043Z
LAST-MODIFIED:20211020T135710Z
UID:7106-1637141400-1637152200@cdby.fr
SUMMARY:Formation Carambole Beynes 17/11/2021
DESCRIPTION:Inscription auprès de Stéphane Nole au 06-62-32-09-90.
URL:http://cdby.fr/event/formation-carambole-beynes-17-11-2021/
LOCATION:BBC (Beynes Billard Carambole)\, Rue du commerce - Val des 4 pignons\, Beynes\, 78650\, France
CATEGORIES:Formation sportive
ATTACH;FMTTYPE=image/png:http://cdby.fr/wp-content/uploads/2017/08/EcuBeynes.png
ORGANIZER;CN="CDBY - formation":MAILTO:formation@cdby.fr
END:VEVENT
BEGIN:VEVENT
DTSTART;TZID=Europe/Paris:20211120T090000
DTEND;TZID=Europe/Paris:20211120T170000
DTSTAMP:20260423T151645
CREATED:20210831T095617Z
LAST-MODIFIED:20211108T113744Z
UID:6856-1637398800-1637427600@cdby.fr
SUMMARY:BANDE R2-T1-21/11/2021
DESCRIPTION:
URL:http://cdby.fr/event/bande-r2-t1-21-11-2021/
LOCATION:BCV (Billard Club Vicinois)\, 6\, rue Claude Debussy\, Voisins-le-Bretonneux\, 78960
CATEGORIES:Régional 2
END:VEVENT
BEGIN:VEVENT
DTSTART;TZID=Europe/Paris:20211121T090000
DTEND;TZID=Europe/Paris:20211121T170000
DTSTAMP:20260423T151645
CREATED:20210831T095255Z
LAST-MODIFIED:20211108T113929Z
UID:6854-1637485200-1637514000@cdby.fr
SUMMARY:LIBRE R1-T1-21/11/2021
DESCRIPTION:
URL:http://cdby.fr/event/libre-r1-t1-21-11-2021/
LOCATION:ARBV (Académie Royale de Billard de Versailles)\, 6\, rue Edmé Frémy\, Versailles\, 78000\, France
CATEGORIES:Régional 1
END:VEVENT
BEGIN:VEVENT
DTSTART;TZID=Europe/Paris:20211127T090000
DTEND;TZID=Europe/Paris:20211127T170000
DTSTAMP:20260423T151645
CREATED:20210831T095932Z
LAST-MODIFIED:20211218T112138Z
UID:6858-1638003600-1638032400@cdby.fr
SUMMARY:LIBRE N3-T1-27/11/2021
DESCRIPTION: 
URL:http://cdby.fr/event/libre-n3-t1-27-11-2021/
LOCATION:BBC (Beynes Billard Carambole)\, Rue du commerce - Val des 4 pignons\, Beynes\, 78650\, France
CATEGORIES:National 3
END:VEVENT
BEGIN:VEVENT
DTSTART;TZID=Europe/Paris:20211127T090000
DTEND;TZID=Europe/Paris:20211127T170000
DTSTAMP:20260423T151645
CREATED:20210831T100146Z
LAST-MODIFIED:20211115T145439Z
UID:6860-1638003600-1638032400@cdby.fr
SUMMARY:BANDE R1-T1-27/11/2021
DESCRIPTION:
URL:http://cdby.fr/event/bande-r1-t1-27-11-2021/
CATEGORIES:Régional 1
END:VEVENT
BEGIN:VEVENT
DTSTART;TZID=Europe/Paris:20211127T090000
DTEND;TZID=Europe/Paris:20211127T170000
DTSTAMP:20260423T151645
CREATED:20210901T092904Z
LAST-MODIFIED:20210901T092904Z
UID:6870-1638003600-1638032400@cdby.fr
SUMMARY:LIBRE DAMES-27/11/2021
DESCRIPTION:
URL:http://cdby.fr/event/libre-dames-27-11-2021/
CATEGORIES:Libre
END:VEVENT
BEGIN:VEVENT
DTSTART;TZID=Europe/Paris:20211127T090000
DTEND;TZID=Europe/Paris:20211127T170000
DTSTAMP:20260423T151645
CREATED:20211218T112802Z
LAST-MODIFIED:20211218T112802Z
UID:7301-1638003600-1638032400@cdby.fr
SUMMARY:LIBRE N3-T1-27/11/2021
DESCRIPTION: 
URL:http://cdby.fr/event/libre-n3-t1-27-11-2021-2/
LOCATION:BBC (Beynes Billard Carambole)\, Rue du commerce - Val des 4 pignons\, Beynes\, 78650\, France
CATEGORIES:National 3
END:VEVENT
BEGIN:VEVENT
DTSTART;TZID=Europe/Paris:20211127T090000
DTEND;TZID=Europe/Paris:20211127T170000
DTSTAMP:20260423T151645
CREATED:20220110T173434Z
LAST-MODIFIED:20220110T173434Z
UID:7334-1638003600-1638032400@cdby.fr
SUMMARY:BANDE R1-T1-27/11/2021
DESCRIPTION:
URL:http://cdby.fr/event/bande-r1-t1-27-11-2021-2/
CATEGORIES:Régional 1
END:VEVENT
BEGIN:VEVENT
DTSTART;TZID=Europe/Paris:20211127T090000
DTEND;TZID=Europe/Paris:20211127T170000
DTSTAMP:20260423T151645
CREATED:20220110T232249Z
LAST-MODIFIED:20220110T232249Z
UID:7351-1638003600-1638032400@cdby.fr
SUMMARY:LIBRE N3-T1-27/11/2021
DESCRIPTION: 
URL:http://cdby.fr/event/libre-n3-t1-27-11-2021-2-2/
LOCATION:BBC (Beynes Billard Carambole)\, Rue du commerce - Val des 4 pignons\, Beynes\, 78650\, France
CATEGORIES:National 3
END:VEVENT
BEGIN:VEVENT
DTSTART;TZID=Europe/Paris:20211127T090000
DTEND;TZID=Europe/Paris:20211127T170000
DTSTAMP:20260423T151645
CREATED:20220111T001037Z
LAST-MODIFIED:20220111T001037Z
UID:7357-1638003600-1638032400@cdby.fr
SUMMARY:BANDE R1-T1-27/11/2021
DESCRIPTION:
URL:http://cdby.fr/event/bande-r1-t1-27-11-2021-2-2/
CATEGORIES:Régional 1
END:VEVENT
BEGIN:VEVENT
DTSTART;TZID=Europe/Paris:20211127T090000
DTEND;TZID=Europe/Paris:20211127T170000
DTSTAMP:20260423T151645
CREATED:20220111T134213Z
LAST-MODIFIED:20220111T134213Z
UID:7359-1638003600-1638032400@cdby.fr
SUMMARY:BANDE R1-T1-27/11/2021
DESCRIPTION:
URL:http://cdby.fr/event/bande-r1-t1-27-11-2021-3/
CATEGORIES:Régional 1
END:VEVENT
END:VCALENDAR