BEGIN:VCALENDAR
VERSION:2.0
PRODID:-//CDB Yvelines - ECPv6.15.20//NONSGML v1.0//EN
CALSCALE:GREGORIAN
METHOD:PUBLISH
X-ORIGINAL-URL:http://cdby.fr
X-WR-CALDESC:Évènements pour CDB Yvelines
REFRESH-INTERVAL;VALUE=DURATION:PT1H
X-Robots-Tag:noindex
X-PUBLISHED-TTL:PT1H
BEGIN:VTIMEZONE
TZID:Europe/Paris
BEGIN:DAYLIGHT
TZOFFSETFROM:+0100
TZOFFSETTO:+0200
TZNAME:CEST
DTSTART:20200329T010000
END:DAYLIGHT
BEGIN:STANDARD
TZOFFSETFROM:+0200
TZOFFSETTO:+0100
TZNAME:CET
DTSTART:20201025T010000
END:STANDARD
BEGIN:DAYLIGHT
TZOFFSETFROM:+0100
TZOFFSETTO:+0200
TZNAME:CEST
DTSTART:20210328T010000
END:DAYLIGHT
BEGIN:STANDARD
TZOFFSETFROM:+0200
TZOFFSETTO:+0100
TZNAME:CET
DTSTART:20211031T010000
END:STANDARD
BEGIN:DAYLIGHT
TZOFFSETFROM:+0100
TZOFFSETTO:+0200
TZNAME:CEST
DTSTART:20220327T010000
END:DAYLIGHT
BEGIN:STANDARD
TZOFFSETFROM:+0200
TZOFFSETTO:+0100
TZNAME:CET
DTSTART:20221030T010000
END:STANDARD
END:VTIMEZONE
BEGIN:VEVENT
DTSTART;TZID=Europe/Paris:20211002T090000
DTEND;TZID=Europe/Paris:20211002T170000
DTSTAMP:20260423T212300
CREATED:20210803T093959Z
LAST-MODIFIED:20210920T133749Z
UID:6719-1633165200-1633194000@cdby.fr
SUMMARY:LIBRE R4-T1-02/10/2021
DESCRIPTION:
URL:http://cdby.fr/event/libre-r4-t1-02-10-2021/
CATEGORIES:Régional 4
END:VEVENT
BEGIN:VEVENT
DTSTART;TZID=Europe/Paris:20211002T090000
DTEND;TZID=Europe/Paris:20211002T170000
DTSTAMP:20260423T212300
CREATED:20210803T094745Z
LAST-MODIFIED:20211009T081734Z
UID:6721-1633165200-1633194000@cdby.fr
SUMMARY:CADRE 42/2-R1-T1-02/10/2021
DESCRIPTION:
URL:http://cdby.fr/event/cadre-42-2-t1-02-10-2021/
CATEGORIES:Régional 1
END:VEVENT
BEGIN:VEVENT
DTSTART;TZID=Europe/Paris:20211010T090000
DTEND;TZID=Europe/Paris:20211010T170000
DTSTAMP:20260423T212300
CREATED:20210803T095350Z
LAST-MODIFIED:20211002T210617Z
UID:6723-1633856400-1633885200@cdby.fr
SUMMARY:3 BANDES R1-T1-10/10/2021
DESCRIPTION:
URL:http://cdby.fr/event/3-bandes-r1-t1-09-10-2021/
CATEGORIES:Régional 1
END:VEVENT
BEGIN:VEVENT
DTSTART;TZID=Europe/Paris:20211013T093000
DTEND;TZID=Europe/Paris:20211013T123000
DTSTAMP:20260423T212300
CREATED:20211011T075506Z
LAST-MODIFIED:20211011T075506Z
UID:7065-1634117400-1634128200@cdby.fr
SUMMARY:Formation Carambole Voisins 13/10/2021
DESCRIPTION:Inscription auprès de Stéphane Nole au 06-62-32-09-90.
URL:http://cdby.fr/event/formation-carambole-voisins-13-10-2021/
LOCATION:BCV (Billard Club Vicinois)\, 6\, rue Claude Debussy\, Voisins-le-Bretonneux\, 78960
CATEGORIES:Formation sportive
ATTACH;FMTTYPE=image/png:http://cdby.fr/wp-content/uploads/2017/08/EcuVoisins.png
ORGANIZER;CN="CDBY - formation":MAILTO:formation@cdby.fr
END:VEVENT
BEGIN:VEVENT
DTSTART;TZID=Europe/Paris:20211016T090000
DTEND;TZID=Europe/Paris:20211016T170000
DTSTAMP:20260423T212300
CREATED:20210818T101718Z
LAST-MODIFIED:20220927T140944Z
UID:6747-1634374800-1634403600@cdby.fr
SUMMARY:LIBRE R3-T1-16/10/2021
DESCRIPTION:
URL:http://cdby.fr/event/libre-r3-t1-16-10-2021/
CATEGORIES:Régional 3
END:VEVENT
BEGIN:VEVENT
DTSTART;TZID=Europe/Paris:20211021T190000
DTEND;TZID=Europe/Paris:20211021T220000
DTSTAMP:20260423T212301
CREATED:20211020T134805Z
LAST-MODIFIED:20211020T135634Z
UID:7100-1634842800-1634853600@cdby.fr
SUMMARY:Formation Carambole Conflans 21/10/2021
DESCRIPTION:Inscription auprès de Stéphane Nole au 06-62-32-09-90.
URL:http://cdby.fr/event/formation-carambole-conflans-21-10-2021/
LOCATION:USC (U. S. CONFLANS)\, 1\, rue Charles Bourseul\, Conflans-Sainte-Honorine\, 78700\, France
CATEGORIES:Formation sportive
ATTACH;FMTTYPE=image/png:http://cdby.fr/wp-content/uploads/2017/08/EcuConflans.png
ORGANIZER;CN="CDBY - formation":MAILTO:formation@cdby.fr
END:VEVENT
BEGIN:VEVENT
DTSTART;TZID=Europe/Paris:20211023T090000
DTEND;TZID=Europe/Paris:20211023T170000
DTSTAMP:20260423T212301
CREATED:20210818T102058Z
LAST-MODIFIED:20211019T063107Z
UID:6749-1634979600-1635008400@cdby.fr
SUMMARY:LIBRE R2-T1-23/10/2021
DESCRIPTION:
URL:http://cdby.fr/event/libre-r2-t1-23-10-2021/
CATEGORIES:Régional 2
END:VEVENT
BEGIN:VEVENT
DTSTART;TZID=Europe/Paris:20211024T090000
DTEND;TZID=Europe/Paris:20211024T170000
DTSTAMP:20260423T212301
CREATED:20210818T102424Z
LAST-MODIFIED:20211013T065532Z
UID:6751-1635066000-1635094800@cdby.fr
SUMMARY:3 BANDES N3-T1-24/10/21
DESCRIPTION:
URL:http://cdby.fr/event/3-bandes-n3-t1-24-10-21/
LOCATION:ARBV (Académie Royale de Billard de Versailles)\, 6\, rue Edmé Frémy\, Versailles\, 78000\, France
CATEGORIES:National 3
END:VEVENT
END:VCALENDAR