BEGIN:VCALENDAR
VERSION:2.0
PRODID:-//CDB Yvelines - ECPv6.15.20//NONSGML v1.0//EN
CALSCALE:GREGORIAN
METHOD:PUBLISH
X-ORIGINAL-URL:http://cdby.fr
X-WR-CALDESC:Évènements pour CDB Yvelines
REFRESH-INTERVAL;VALUE=DURATION:PT1H
X-Robots-Tag:noindex
X-PUBLISHED-TTL:PT1H
BEGIN:VTIMEZONE
TZID:Europe/Paris
BEGIN:DAYLIGHT
TZOFFSETFROM:+0100
TZOFFSETTO:+0200
TZNAME:CEST
DTSTART:20200329T010000
END:DAYLIGHT
BEGIN:STANDARD
TZOFFSETFROM:+0200
TZOFFSETTO:+0100
TZNAME:CET
DTSTART:20201025T010000
END:STANDARD
BEGIN:DAYLIGHT
TZOFFSETFROM:+0100
TZOFFSETTO:+0200
TZNAME:CEST
DTSTART:20210328T010000
END:DAYLIGHT
BEGIN:STANDARD
TZOFFSETFROM:+0200
TZOFFSETTO:+0100
TZNAME:CET
DTSTART:20211031T010000
END:STANDARD
BEGIN:DAYLIGHT
TZOFFSETFROM:+0100
TZOFFSETTO:+0200
TZNAME:CEST
DTSTART:20220327T010000
END:DAYLIGHT
BEGIN:STANDARD
TZOFFSETFROM:+0200
TZOFFSETTO:+0100
TZNAME:CET
DTSTART:20221030T010000
END:STANDARD
END:VTIMEZONE
BEGIN:VEVENT
DTSTART;TZID=Europe/Paris:20210501T080000
DTEND;TZID=Europe/Paris:20210502T180000
DTSTAMP:20260424T225207
CREATED:20200805T160049Z
LAST-MODIFIED:20200805T160049Z
UID:6076-1619856000-1619978400@cdby.fr
SUMMARY:BLACKBALL 2020-2021 - BBM SPECIAL - ARRAS
DESCRIPTION:Inscriptions sur le site fédéral : \nBAP FFB SPORTIF
URL:http://cdby.fr/event/blackball-2020-2021-bbm-special-arras/
LOCATION:Autres\, France
CATEGORIES:Nationale 2 BB
ATTACH;FMTTYPE=image/png:http://cdby.fr/wp-content/uploads/2017/08/logo-haut.png
END:VEVENT
BEGIN:VEVENT
DTSTART;VALUE=DATE:20210502
DTEND;VALUE=DATE:20210503
DTSTAMP:20260424T225207
CREATED:20200813T065457Z
LAST-MODIFIED:20200815T130552Z
UID:6145-1619913600-1619999999@cdby.fr
SUMMARY:CARAMBOLE FEMININE 2020-2021-FINALE-LIBRE
DESCRIPTION:Inscriptions sur le site de la LBIF : \n \nINSCRIPTIONS \n  \n  \n 
URL:http://cdby.fr/event/carambole-feminine-2020-2021-finale-libre/
LOCATION:Autres\, France
CATEGORIES:Libre
ATTACH;FMTTYPE=image/jpeg:http://cdby.fr/wp-content/uploads/2017/09/LBIF-e1505077463369.jpg
END:VEVENT
BEGIN:VEVENT
DTSTART;TZID=Europe/Paris:20210502T090000
DTEND;TZID=Europe/Paris:20210502T170000
DTSTAMP:20260424T225207
CREATED:20200819T093029Z
LAST-MODIFIED:20200822T160813Z
UID:6244-1619946000-1619974800@cdby.fr
SUMMARY:LIBRE R3 - FINALE CDBY - 02/05/21
DESCRIPTION:
URL:http://cdby.fr/event/libre-r3-finale-cdby-02-05-21/
LOCATION:BCV (Billard Club Vicinois)\, 6\, rue Claude Debussy\, Voisins-le-Bretonneux\, 78960
CATEGORIES:Régional 3
ATTACH;FMTTYPE=image/jpeg:http://cdby.fr/wp-content/uploads/2018/09/LOGO-CDBY.jpg
END:VEVENT
BEGIN:VEVENT
DTSTART;VALUE=DATE:20210508
DTEND;VALUE=DATE:20210509
DTSTAMP:20260424T225207
CREATED:20200805T154304Z
LAST-MODIFIED:20200805T154304Z
UID:6054-1620432000-1620518399@cdby.fr
SUMMARY:BLACKBALL-2020-2021-FINALE LBIF-TOP LIGUE
DESCRIPTION:Finale LBIF sur convocation \nConfirmation sur le site de la LBIF : \n  \nCONFIRMATION \n  \n  \n  \n 
URL:http://cdby.fr/event/blackball-2020-2021-finale-top-ligue/
LOCATION:Autres\, France
CATEGORIES:Nationale 2 BB
ATTACH;FMTTYPE=image/jpeg:http://cdby.fr/wp-content/uploads/2017/09/LBIF-e1505077463369.jpg
END:VEVENT
BEGIN:VEVENT
DTSTART;VALUE=DATE:20210508
DTEND;VALUE=DATE:20210509
DTSTAMP:20260424T225207
CREATED:20200805T154337Z
LAST-MODIFIED:20200805T154337Z
UID:6056-1620432000-1620518399@cdby.fr
SUMMARY:BLACKBALL-2020-2021-FINALE LBIF-NR2
DESCRIPTION:Finale LBIF sur convocation \nConfirmation sur le site de la LBIF : \n  \nCONFIRMATION \n  \n  \n  \n 
URL:http://cdby.fr/event/blackball-2020-2021-finale-nr2/
LOCATION:Autres\, France
CATEGORIES:Nationale 2 BB
ATTACH;FMTTYPE=image/jpeg:http://cdby.fr/wp-content/uploads/2017/09/LBIF-e1505077463369.jpg
END:VEVENT
BEGIN:VEVENT
DTSTART;TZID=Europe/Paris:20210508T090000
DTEND;TZID=Europe/Paris:20210508T170000
DTSTAMP:20260424T225207
CREATED:20200819T093336Z
LAST-MODIFIED:20230522T105331Z
UID:6246-1620464400-1620493200@cdby.fr
SUMMARY:LIBRE R1 - FINALE CDBY - 08/05/21
DESCRIPTION:
URL:http://cdby.fr/event/libre-r1-finale-cdby-08-05-21/
LOCATION:ASEV (Association St-Etienne de Vernouillet )\, 6\, rue du Val de Seine\, Vernouillet\, 78540\, France
CATEGORIES:Régional 1
ATTACH;FMTTYPE=image/jpeg:http://cdby.fr/wp-content/uploads/2018/09/LOGO-CDBY.jpg
END:VEVENT
BEGIN:VEVENT
DTSTART;VALUE=DATE:20210509
DTEND;VALUE=DATE:20210510
DTSTAMP:20260424T225207
CREATED:20200805T154418Z
LAST-MODIFIED:20200805T154418Z
UID:6058-1620518400-1620604799@cdby.fr
SUMMARY:BLACKBALL-2020-2021-FINALE LBIF-NATIONAL 2
DESCRIPTION:Finale LBIF sur convocation \nConfirmation sur le site de la LBIF : \n  \nCONFIRMATION \n  \n  \n  \n 
URL:http://cdby.fr/event/blackball-2020-2021-finale-national-2/
LOCATION:Autres\, France
CATEGORIES:Nationale 2 BB
ATTACH;FMTTYPE=image/jpeg:http://cdby.fr/wp-content/uploads/2017/09/LBIF-e1505077463369.jpg
END:VEVENT
BEGIN:VEVENT
DTSTART;VALUE=DATE:20210509
DTEND;VALUE=DATE:20210510
DTSTAMP:20260424T225207
CREATED:20200819T093528Z
LAST-MODIFIED:20200822T161627Z
UID:6248-1620518400-1620604799@cdby.fr
SUMMARY:3 BANDES R1 - FINALE LBIF - 09/05/21
DESCRIPTION:
URL:http://cdby.fr/event/3-bandes-r1-finale-lbif-09-05-21/
CATEGORIES:Régional 1
ATTACH;FMTTYPE=image/jpeg:http://cdby.fr/wp-content/uploads/2018/09/LOGO-CDBY.jpg
END:VEVENT
BEGIN:VEVENT
DTSTART;TZID=Europe/Paris:20210513T080000
DTEND;TZID=Europe/Paris:20210516T180000
DTSTAMP:20260424T225207
CREATED:20200805T155740Z
LAST-MODIFIED:20200805T155740Z
UID:6070-1620892800-1621188000@cdby.fr
SUMMARY:BLACKBALL 2020-2021 - TN7 - CF- VEYRE MONTON
DESCRIPTION:Inscriptions sur le site fédéral : \nBAP FFB SPORTIF
URL:http://cdby.fr/event/blackball-2020-2021-tn7-cf-veyre-monton/
LOCATION:Autres\, France
CATEGORIES:Nationale 2 BB
ATTACH;FMTTYPE=image/png:http://cdby.fr/wp-content/uploads/2017/08/logo-haut.png
END:VEVENT
BEGIN:VEVENT
DTSTART;TZID=Europe/Paris:20210515T090000
DTEND;TZID=Europe/Paris:20210515T170000
DTSTAMP:20260424T225207
CREATED:20200819T093930Z
LAST-MODIFIED:20200822T161101Z
UID:6252-1621069200-1621098000@cdby.fr
SUMMARY:BANDE R1 - FINALE CDBY - 15/05/21
DESCRIPTION:
URL:http://cdby.fr/event/bande-r1-finale-cdby-15-05-21/
LOCATION:USC (U. S. CONFLANS)\, 1\, rue Charles Bourseul\, Conflans-Sainte-Honorine\, 78700\, France
CATEGORIES:Régional 1
ATTACH;FMTTYPE=image/jpeg:http://cdby.fr/wp-content/uploads/2018/09/LOGO-CDBY.jpg
END:VEVENT
BEGIN:VEVENT
DTSTART;VALUE=DATE:20210516
DTEND;VALUE=DATE:20210517
DTSTAMP:20260424T225207
CREATED:20200819T093727Z
LAST-MODIFIED:20200822T161044Z
UID:6250-1621123200-1621209599@cdby.fr
SUMMARY:LIBRE R2 - FINALE LBIF - 16/05/21
DESCRIPTION:
URL:http://cdby.fr/event/libre-r2-finale-lbif-16-05-21/
CATEGORIES:Régional 2
ATTACH;FMTTYPE=image/jpeg:http://cdby.fr/wp-content/uploads/2017/09/LBIF-e1505077463369.jpg
END:VEVENT
BEGIN:VEVENT
DTSTART;VALUE=DATE:20210523
DTEND;VALUE=DATE:20210524
DTSTAMP:20260424T225207
CREATED:20200819T094127Z
LAST-MODIFIED:20200822T161022Z
UID:6254-1621728000-1621814399@cdby.fr
SUMMARY:LIBRE R1 - FINALE LBIF - 23/05/21
DESCRIPTION:
URL:http://cdby.fr/event/libre-r1-finale-lbif-23-05-21/
CATEGORIES:Régional 1
ATTACH;FMTTYPE=image/jpeg:http://cdby.fr/wp-content/uploads/2017/09/LBIF-e1505077463369.jpg
END:VEVENT
BEGIN:VEVENT
DTSTART;TZID=Europe/Paris:20210529T090000
DTEND;TZID=Europe/Paris:20210529T170000
DTSTAMP:20260424T225207
CREATED:20200819T094322Z
LAST-MODIFIED:20200819T094322Z
UID:6256-1622278800-1622307600@cdby.fr
SUMMARY:BANDE R2 - FINALE CDBY - 29/05/21
DESCRIPTION:
URL:http://cdby.fr/event/bande-r2-finale-cdby-29-05-21/
LOCATION:BBC (Beynes Billard Carambole)\, Rue du commerce - Val des 4 pignons\, Beynes\, 78650\, France
CATEGORIES:Régional 2
END:VEVENT
END:VCALENDAR