BEGIN:VCALENDAR
VERSION:2.0
PRODID:-//CDB Yvelines - ECPv6.15.20//NONSGML v1.0//EN
CALSCALE:GREGORIAN
METHOD:PUBLISH
X-ORIGINAL-URL:http://cdby.fr
X-WR-CALDESC:Évènements pour CDB Yvelines
REFRESH-INTERVAL;VALUE=DURATION:PT1H
X-Robots-Tag:noindex
X-PUBLISHED-TTL:PT1H
BEGIN:VTIMEZONE
TZID:Europe/Paris
BEGIN:DAYLIGHT
TZOFFSETFROM:+0100
TZOFFSETTO:+0200
TZNAME:CEST
DTSTART:20200329T010000
END:DAYLIGHT
BEGIN:STANDARD
TZOFFSETFROM:+0200
TZOFFSETTO:+0100
TZNAME:CET
DTSTART:20201025T010000
END:STANDARD
BEGIN:DAYLIGHT
TZOFFSETFROM:+0100
TZOFFSETTO:+0200
TZNAME:CEST
DTSTART:20210328T010000
END:DAYLIGHT
BEGIN:STANDARD
TZOFFSETFROM:+0200
TZOFFSETTO:+0100
TZNAME:CET
DTSTART:20211031T010000
END:STANDARD
BEGIN:DAYLIGHT
TZOFFSETFROM:+0100
TZOFFSETTO:+0200
TZNAME:CEST
DTSTART:20220327T010000
END:DAYLIGHT
BEGIN:STANDARD
TZOFFSETFROM:+0200
TZOFFSETTO:+0100
TZNAME:CET
DTSTART:20221030T010000
END:STANDARD
END:VTIMEZONE
BEGIN:VEVENT
DTSTART;TZID=Europe/Paris:20210403T090000
DTEND;TZID=Europe/Paris:20210403T170000
DTSTAMP:20260425T014542
CREATED:20200819T090620Z
LAST-MODIFIED:20200822T161357Z
UID:6231-1617440400-1617469200@cdby.fr
SUMMARY:LIBRE N3 - FINALE CDBY - 03/04/21
DESCRIPTION:
URL:http://cdby.fr/event/libre-n3-finale-cdby-03-04-21/
LOCATION:BCB (Billard Club de Buchelay)\, 6\, rue Gabriel Péri\, Buchelay\, 78200\, France
CATEGORIES:National 3
ATTACH;FMTTYPE=image/jpeg:http://cdby.fr/wp-content/uploads/2018/09/LOGO-CDBY.jpg
END:VEVENT
BEGIN:VEVENT
DTSTART;TZID=Europe/Paris:20210404T090000
DTEND;TZID=Europe/Paris:20210404T170000
DTSTAMP:20260425T014542
CREATED:20200819T091023Z
LAST-MODIFIED:20200822T161344Z
UID:6233-1617526800-1617555600@cdby.fr
SUMMARY:LIBRE R4 - FINALE CDBY - 04/04/21
DESCRIPTION:
URL:http://cdby.fr/event/libre-r4-finale-cdby-04-04-21/
LOCATION:ARBV (Académie Royale de Billard de Versailles)\, 6\, rue Edmé Frémy\, Versailles\, 78000\, France
CATEGORIES:Régional 4
ATTACH;FMTTYPE=image/jpeg:http://cdby.fr/wp-content/uploads/2018/09/LOGO-CDBY.jpg
END:VEVENT
BEGIN:VEVENT
DTSTART;VALUE=DATE:20210410
DTEND;VALUE=DATE:20210411
DTSTAMP:20260425T014542
CREATED:20200805T153425Z
LAST-MODIFIED:20200805T154038Z
UID:6039-1618012800-1618099199@cdby.fr
SUMMARY:BLACKBALL-2020-2021-FINALE LBIF-JEUNES-U23
DESCRIPTION:Finale LBIF sur convocation \nConfirmation sur le site de la LBIF : \n  \nCONFIRMATION \n  \n  \n  \n 
URL:http://cdby.fr/event/blackball-2020-2021-finale-lbif-jeunes-u23/
LOCATION:Autres\, France
CATEGORIES:U23
ATTACH;FMTTYPE=image/jpeg:http://cdby.fr/wp-content/uploads/2017/09/LBIF-e1505077463369.jpg
END:VEVENT
BEGIN:VEVENT
DTSTART;VALUE=DATE:20210410
DTEND;VALUE=DATE:20210411
DTSTAMP:20260425T014542
CREATED:20200805T153502Z
LAST-MODIFIED:20200805T154100Z
UID:6041-1618012800-1618099199@cdby.fr
SUMMARY:BLACKBALL-2020-2021-FINALE LBIF-JEUNES-U18
DESCRIPTION:Finale LBIF sur convocation \nConfirmation sur le site de la LBIF : \n  \nCONFIRMATION \n  \n  \n  \n 
URL:http://cdby.fr/event/blackball-2020-2021-finale-lbif-jeunes-u18/
LOCATION:Autres\, France
CATEGORIES:U18
ATTACH;FMTTYPE=image/jpeg:http://cdby.fr/wp-content/uploads/2017/09/LBIF-e1505077463369.jpg
END:VEVENT
BEGIN:VEVENT
DTSTART;VALUE=DATE:20210410
DTEND;VALUE=DATE:20210411
DTSTAMP:20260425T014542
CREATED:20200805T153534Z
LAST-MODIFIED:20200805T154119Z
UID:6043-1618012800-1618099199@cdby.fr
SUMMARY:BLACKBALL-2020-2021-FINALE LBIF-JEUNES-U15
DESCRIPTION:Finale LBIF sur convocation \nConfirmation sur le site de la LBIF : \n  \nCONFIRMATION \n  \n  \n  \n 
URL:http://cdby.fr/event/blackball-2020-2021-finale-lbif-jeunes-u15/
LOCATION:Autres\, France
CATEGORIES:U15
ATTACH;FMTTYPE=image/jpeg:http://cdby.fr/wp-content/uploads/2017/09/LBIF-e1505077463369.jpg
END:VEVENT
BEGIN:VEVENT
DTSTART;VALUE=DATE:20210410
DTEND;VALUE=DATE:20210411
DTSTAMP:20260425T014542
CREATED:20200805T153624Z
LAST-MODIFIED:20200805T154137Z
UID:6045-1618012800-1618099199@cdby.fr
SUMMARY:BLACKBALL-2020-2021-FINALE LBIF-VETERANS
DESCRIPTION:Finale LBIF sur convocation \nConfirmation sur le site de la LBIF : \n  \nCONFIRMATION \n  \n  \n  \n 
URL:http://cdby.fr/event/blackball-2020-2021-finale-veterans/
LOCATION:Autres\, France
CATEGORIES:Vétérans
ATTACH;FMTTYPE=image/jpeg:http://cdby.fr/wp-content/uploads/2017/09/LBIF-e1505077463369.jpg
END:VEVENT
BEGIN:VEVENT
DTSTART;VALUE=DATE:20210410
DTEND;VALUE=DATE:20210411
DTSTAMP:20260425T014542
CREATED:20200805T153738Z
LAST-MODIFIED:20200805T154156Z
UID:6049-1618012800-1618099199@cdby.fr
SUMMARY:BLACKBALL-2020-2021-FINALE LBIF-FEMININES
DESCRIPTION:Finale LBIF sur convocation \nConfirmation sur le site de la LBIF : \n  \nCONFIRMATION \n  \n  \n  \n 
URL:http://cdby.fr/event/blackball-2020-2021-finale-feminines-2/
LOCATION:Autres\, France
CATEGORIES:Féminines
ATTACH;FMTTYPE=image/jpeg:http://cdby.fr/wp-content/uploads/2017/09/LBIF-e1505077463369.jpg
END:VEVENT
BEGIN:VEVENT
DTSTART;VALUE=DATE:20210410
DTEND;VALUE=DATE:20210411
DTSTAMP:20260425T014542
CREATED:20200805T153922Z
LAST-MODIFIED:20200805T154214Z
UID:6052-1618012800-1618099199@cdby.fr
SUMMARY:BLACKBALL-2020-2021-FINALE LBIF-EQUIPES DN3
DESCRIPTION:Finale LBIF sur convocation \nConfirmation sur le site de la LBIF : \n  \nCONFIRMATION \n  \n  \n  \n 
URL:http://cdby.fr/event/blackball-2020-2021-finale-equipes-dn3-2/
LOCATION:Autres\, France
CATEGORIES:Equipe DN3
ATTACH;FMTTYPE=image/jpeg:http://cdby.fr/wp-content/uploads/2017/09/LBIF-e1505077463369.jpg
END:VEVENT
BEGIN:VEVENT
DTSTART;TZID=Europe/Paris:20210410T090000
DTEND;TZID=Europe/Paris:20210410T170000
DTSTAMP:20260425T014542
CREATED:20200819T091659Z
LAST-MODIFIED:20201214T100106Z
UID:6235-1618045200-1618074000@cdby.fr
SUMMARY:LIBRE R1 - T2 - 10/04/21
DESCRIPTION:
URL:http://cdby.fr/event/libre-r1-t2-10-04-21/
LOCATION:USC (U. S. CONFLANS)\, 1\, rue Charles Bourseul\, Conflans-Sainte-Honorine\, 78700\, France
CATEGORIES:Régional 1
END:VEVENT
BEGIN:VEVENT
DTSTART;TZID=Europe/Paris:20210410T090000
DTEND;TZID=Europe/Paris:20210410T170000
DTSTAMP:20260425T014542
CREATED:20200819T092050Z
LAST-MODIFIED:20200822T161253Z
UID:6238-1618045200-1618074000@cdby.fr
SUMMARY:3 BANDES R1 - FINALE CDBY - 10/04/21
DESCRIPTION:
URL:http://cdby.fr/event/3-bandes-r1-finale-cdby-10-04-21/
LOCATION:BBC (Beynes Billard Carambole)\, Rue du commerce - Val des 4 pignons\, Beynes\, 78650\, France
CATEGORIES:Régional 1
ATTACH;FMTTYPE=image/jpeg:http://cdby.fr/wp-content/uploads/2018/09/LOGO-CDBY.jpg
END:VEVENT
BEGIN:VEVENT
DTSTART;VALUE=DATE:20210411
DTEND;VALUE=DATE:20210412
DTSTAMP:20260425T014542
CREATED:20200805T153014Z
LAST-MODIFIED:20200805T153014Z
UID:6035-1618099200-1618185599@cdby.fr
SUMMARY:BLACKBALL 2020-2021-TR7 TOP LIGUE
DESCRIPTION:Inscriptions sur le site de la LBIF : \n \nINSCRIPTIONS \n  \n  \n 
URL:http://cdby.fr/event/blackball-2020-2021-tr7-top-ligue/
LOCATION:Autres\, France
CATEGORIES:Nationale 2 BB
ATTACH;FMTTYPE=image/jpeg:http://cdby.fr/wp-content/uploads/2017/09/LBIF-e1505077463369.jpg
END:VEVENT
BEGIN:VEVENT
DTSTART;VALUE=DATE:20210411
DTEND;VALUE=DATE:20210412
DTSTAMP:20260425T014542
CREATED:20200805T153046Z
LAST-MODIFIED:20200805T153046Z
UID:6037-1618099200-1618185599@cdby.fr
SUMMARY:BLACKBALL 2020-2021-TR7 NR2
DESCRIPTION:Inscriptions sur le site de la LBIF : \n \nINSCRIPTIONS \n  \n  \n 
URL:http://cdby.fr/event/blackball-2020-2021-tr7-nr2/
LOCATION:Autres\, France
CATEGORIES:Nationale 2 BB
ATTACH;FMTTYPE=image/jpeg:http://cdby.fr/wp-content/uploads/2017/09/LBIF-e1505077463369.jpg
END:VEVENT
BEGIN:VEVENT
DTSTART;TZID=Europe/Paris:20210416T080000
DTEND;TZID=Europe/Paris:20210418T180000
DTSTAMP:20260425T014542
CREATED:20200805T155608Z
LAST-MODIFIED:20200805T155608Z
UID:6068-1618560000-1618768800@cdby.fr
SUMMARY:BLACKBALL 2020-2021 - TN6 - AGEN
DESCRIPTION:Inscriptions sur le site fédéral : \nBAP FFB SPORTIF
URL:http://cdby.fr/event/blackball-2020-2021-tn6-agen/
LOCATION:Autres\, France
CATEGORIES:Nationale 2 BB
ATTACH;FMTTYPE=image/png:http://cdby.fr/wp-content/uploads/2017/08/logo-haut.png
END:VEVENT
BEGIN:VEVENT
DTSTART;TZID=Europe/Paris:20210417T090000
DTEND;TZID=Europe/Paris:20210417T170000
DTSTAMP:20260425T014542
CREATED:20200819T092723Z
LAST-MODIFIED:20200822T161238Z
UID:6242-1618650000-1618678800@cdby.fr
SUMMARY:LIBRE R2 - FINALE CDBY - 17/04/21
DESCRIPTION:
URL:http://cdby.fr/event/libre-r2-finale-cdby-17-04-21/
LOCATION:BCB (Billard Club de Buchelay)\, 6\, rue Gabriel Péri\, Buchelay\, 78200\, France
CATEGORIES:Régional 2
ATTACH;FMTTYPE=image/jpeg:http://cdby.fr/wp-content/uploads/2018/09/LOGO-CDBY.jpg
END:VEVENT
BEGIN:VEVENT
DTSTART;VALUE=DATE:20210418
DTEND;VALUE=DATE:20210419
DTSTAMP:20260425T014542
CREATED:20200813T070354Z
LAST-MODIFIED:20200815T130637Z
UID:6154-1618704000-1618790399@cdby.fr
SUMMARY:CARAMBOLE FEMININE 2020-2021-FINALE-3 BANDES
DESCRIPTION:Inscriptions sur le site de la LBIF : \n \nINSCRIPTIONS \n  \n  \n 
URL:http://cdby.fr/event/carambole-feminine-2020-2021-finale-3-bandes/
LOCATION:Autres\, France
CATEGORIES:3 bandes
ATTACH;FMTTYPE=image/jpeg:http://cdby.fr/wp-content/uploads/2017/09/LBIF-e1505077463369.jpg
END:VEVENT
BEGIN:VEVENT
DTSTART;VALUE=DATE:20210425
DTEND;VALUE=DATE:20210426
DTSTAMP:20260425T014542
CREATED:20200819T092438Z
LAST-MODIFIED:20200822T161213Z
UID:6240-1619308800-1619395199@cdby.fr
SUMMARY:LIBRE N3 - FINALE LBIF - 25/04/21
DESCRIPTION:
URL:http://cdby.fr/event/libre-n3-finale-lbif-25-04-21/
CATEGORIES:National 3
ATTACH;FMTTYPE=image/jpeg:http://cdby.fr/wp-content/uploads/2017/09/LBIF-e1505077463369.jpg
END:VEVENT
END:VCALENDAR