BEGIN:VCALENDAR
VERSION:2.0
PRODID:-//CDB Yvelines - ECPv6.15.20//NONSGML v1.0//EN
CALSCALE:GREGORIAN
METHOD:PUBLISH
X-ORIGINAL-URL:http://cdby.fr
X-WR-CALDESC:Évènements pour CDB Yvelines
REFRESH-INTERVAL;VALUE=DURATION:PT1H
X-Robots-Tag:noindex
X-PUBLISHED-TTL:PT1H
BEGIN:VTIMEZONE
TZID:Europe/Paris
BEGIN:DAYLIGHT
TZOFFSETFROM:+0100
TZOFFSETTO:+0200
TZNAME:CEST
DTSTART:20200329T010000
END:DAYLIGHT
BEGIN:STANDARD
TZOFFSETFROM:+0200
TZOFFSETTO:+0100
TZNAME:CET
DTSTART:20201025T010000
END:STANDARD
BEGIN:DAYLIGHT
TZOFFSETFROM:+0100
TZOFFSETTO:+0200
TZNAME:CEST
DTSTART:20210328T010000
END:DAYLIGHT
BEGIN:STANDARD
TZOFFSETFROM:+0200
TZOFFSETTO:+0100
TZNAME:CET
DTSTART:20211031T010000
END:STANDARD
BEGIN:DAYLIGHT
TZOFFSETFROM:+0100
TZOFFSETTO:+0200
TZNAME:CEST
DTSTART:20220327T010000
END:DAYLIGHT
BEGIN:STANDARD
TZOFFSETFROM:+0200
TZOFFSETTO:+0100
TZNAME:CET
DTSTART:20221030T010000
END:STANDARD
END:VTIMEZONE
BEGIN:VEVENT
DTSTART;TZID=Europe/Paris:20210306T090000
DTEND;TZID=Europe/Paris:20210306T170000
DTSTAMP:20260425T061652
CREATED:20200818T140742Z
LAST-MODIFIED:20201214T095717Z
UID:6213-1615021200-1615050000@cdby.fr
SUMMARY:3 BANDES R1 - T2 - 06/03/21
DESCRIPTION:
URL:http://cdby.fr/event/3-bandes-r1-t2-06-03-21/
CATEGORIES:Régional 1
END:VEVENT
BEGIN:VEVENT
DTSTART;VALUE=DATE:20210307
DTEND;VALUE=DATE:20210308
DTSTAMP:20260425T061652
CREATED:20200805T152712Z
LAST-MODIFIED:20200805T152712Z
UID:6031-1615075200-1615161599@cdby.fr
SUMMARY:BLACKBALL 2020-2021-TR6 TOP LIGUE
DESCRIPTION:Inscriptions sur le site de la LBIF : \n \nINSCRIPTIONS \n  \n  \n 
URL:http://cdby.fr/event/blackball-2020-2021-tr6-top-ligue/
LOCATION:Autres\, France
CATEGORIES:Nationale 2 BB
ATTACH;FMTTYPE=image/jpeg:http://cdby.fr/wp-content/uploads/2017/09/LBIF-e1505077463369.jpg
END:VEVENT
BEGIN:VEVENT
DTSTART;VALUE=DATE:20210307
DTEND;VALUE=DATE:20210308
DTSTAMP:20260425T061652
CREATED:20200805T152806Z
LAST-MODIFIED:20200805T152806Z
UID:6033-1615075200-1615161599@cdby.fr
SUMMARY:BLACKBALL 2020-2021-TR6 NR2
DESCRIPTION:Inscriptions sur le site de la LBIF : \n \nINSCRIPTIONS \n  \n  \n 
URL:http://cdby.fr/event/blackball-2020-2021-tr6-nr2/
LOCATION:Autres\, France
CATEGORIES:Nationale 2 BB
ATTACH;FMTTYPE=image/jpeg:http://cdby.fr/wp-content/uploads/2017/09/LBIF-e1505077463369.jpg
END:VEVENT
BEGIN:VEVENT
DTSTART;VALUE=DATE:20210307
DTEND;VALUE=DATE:20210308
DTSTAMP:20260425T061652
CREATED:20200818T140328Z
LAST-MODIFIED:20200818T145313Z
UID:6211-1615075200-1615161599@cdby.fr
SUMMARY:CADRE 42/2 - FINALE LBIF - 07/03/21
DESCRIPTION:
URL:http://cdby.fr/event/cadre-42-2-finale-lbif-07-03-21/
CATEGORIES:National 3
ATTACH;FMTTYPE=image/jpeg:http://cdby.fr/wp-content/uploads/2017/09/LBIF-e1505077463369.jpg
END:VEVENT
BEGIN:VEVENT
DTSTART;TZID=Europe/Paris:20210313T080000
DTEND;TZID=Europe/Paris:20210313T180000
DTSTAMP:20260425T061652
CREATED:20200805T160633Z
LAST-MODIFIED:20200805T160633Z
UID:6079-1615622400-1615658400@cdby.fr
SUMMARY:BLACKBALL-2020-2021-FINALE CDB78-VETERAN
DESCRIPTION:
URL:http://cdby.fr/event/blackball-2020-2021-finale-cdb78-veteran/
LOCATION:PBC – PHOENIX BILLARD CLUB\, 8 bis avenue charles de gaulles\, LE PECQ\, 78230\, France
CATEGORIES:Vétérans
ATTACH;FMTTYPE=image/jpeg:http://cdby.fr/wp-content/uploads/2017/07/LOGO-CDBY.jpg
ORGANIZER;CN="CDBY - Sportif Blackball":MAILTO:bap@cdby.fr
END:VEVENT
BEGIN:VEVENT
DTSTART;TZID=Europe/Paris:20210313T080000
DTEND;TZID=Europe/Paris:20210313T180000
DTSTAMP:20260425T061652
CREATED:20200805T160709Z
LAST-MODIFIED:20200805T160709Z
UID:6080-1615622400-1615658400@cdby.fr
SUMMARY:BLACKBALL-2020-2021-FINALE CDB78-FEMININ
DESCRIPTION:
URL:http://cdby.fr/event/blackball-2020-2021-finale-cdb78-feminin/
LOCATION:PBC – PHOENIX BILLARD CLUB\, 8 bis avenue charles de gaulles\, LE PECQ\, 78230\, France
CATEGORIES:Féminines
ATTACH;FMTTYPE=image/jpeg:http://cdby.fr/wp-content/uploads/2017/07/LOGO-CDBY.jpg
ORGANIZER;CN="CDBY - Sportif Blackball":MAILTO:bap@cdby.fr
END:VEVENT
BEGIN:VEVENT
DTSTART;TZID=Europe/Paris:20210313T080000
DTEND;TZID=Europe/Paris:20210313T180000
DTSTAMP:20260425T061652
CREATED:20200805T160749Z
LAST-MODIFIED:20200805T165852Z
UID:6081-1615622400-1615658400@cdby.fr
SUMMARY:BLACKBALL-2020-2021-FINALE CDB78-JEUNES-U23
DESCRIPTION:
URL:http://cdby.fr/event/blackball-2020-2021-finale-cdb78-jeunes-u23/
LOCATION:PBC – PHOENIX BILLARD CLUB\, 8 bis avenue charles de gaulles\, LE PECQ\, 78230\, France
CATEGORIES:U23
ATTACH;FMTTYPE=image/jpeg:http://cdby.fr/wp-content/uploads/2017/07/LOGO-CDBY.jpg
ORGANIZER;CN="CDBY - Sportif Blackball":MAILTO:bap@cdby.fr
END:VEVENT
BEGIN:VEVENT
DTSTART;TZID=Europe/Paris:20210313T080000
DTEND;TZID=Europe/Paris:20210313T180000
DTSTAMP:20260425T061652
CREATED:20200805T165930Z
LAST-MODIFIED:20200805T165930Z
UID:6082-1615622400-1615658400@cdby.fr
SUMMARY:BLACKBALL-2020-2021-FINALE CDB78-JEUNES-U18
DESCRIPTION:
URL:http://cdby.fr/event/blackball-2020-2021-finale-cdb78-jeunes-u18/
LOCATION:PBC – PHOENIX BILLARD CLUB\, 8 bis avenue charles de gaulles\, LE PECQ\, 78230\, France
CATEGORIES:U18
ATTACH;FMTTYPE=image/jpeg:http://cdby.fr/wp-content/uploads/2017/07/LOGO-CDBY.jpg
ORGANIZER;CN="CDBY - Sportif Blackball":MAILTO:bap@cdby.fr
END:VEVENT
BEGIN:VEVENT
DTSTART;TZID=Europe/Paris:20210313T080000
DTEND;TZID=Europe/Paris:20210313T180000
DTSTAMP:20260425T061652
CREATED:20200805T170006Z
LAST-MODIFIED:20200805T170006Z
UID:6083-1615622400-1615658400@cdby.fr
SUMMARY:BLACKBALL-2020-2021-FINALE CDB78-JEUNES-U15
DESCRIPTION:
URL:http://cdby.fr/event/blackball-2020-2021-finale-cdb78-jeunes-u15/
LOCATION:PBC – PHOENIX BILLARD CLUB\, 8 bis avenue charles de gaulles\, LE PECQ\, 78230\, France
CATEGORIES:U15
ATTACH;FMTTYPE=image/jpeg:http://cdby.fr/wp-content/uploads/2017/07/LOGO-CDBY.jpg
ORGANIZER;CN="CDBY - Sportif Blackball":MAILTO:bap@cdby.fr
END:VEVENT
BEGIN:VEVENT
DTSTART;TZID=Europe/Paris:20210313T090000
DTEND;TZID=Europe/Paris:20210313T170000
DTSTAMP:20260425T061652
CREATED:20200818T141229Z
LAST-MODIFIED:20200818T145238Z
UID:6215-1615626000-1615654800@cdby.fr
SUMMARY:CADRE 42/2 - FINALE CDBY - 13/03/21
DESCRIPTION:
URL:http://cdby.fr/event/cadre-42-2-finale-cdby-13-03-21/
LOCATION:USC (U. S. CONFLANS)\, 1\, rue Charles Bourseul\, Conflans-Sainte-Honorine\, 78700\, France
CATEGORIES:Régional 1
ATTACH;FMTTYPE=image/jpeg:http://cdby.fr/wp-content/uploads/2018/09/LOGO-CDBY.jpg
END:VEVENT
BEGIN:VEVENT
DTSTART;VALUE=DATE:20210314
DTEND;VALUE=DATE:20210315
DTSTAMP:20260425T061652
CREATED:20200818T141436Z
LAST-MODIFIED:20200818T144950Z
UID:6217-1615680000-1615766399@cdby.fr
SUMMARY:BANDE N3 - FINALE LBIF - 14/03/21
DESCRIPTION:
URL:http://cdby.fr/event/bande-n3-finale-lbif-14-03-21/
CATEGORIES:National 3
ATTACH;FMTTYPE=image/jpeg:http://cdby.fr/wp-content/uploads/2017/09/LBIF-e1505077463369.jpg
END:VEVENT
BEGIN:VEVENT
DTSTART;TZID=Europe/Paris:20210314T080000
DTEND;TZID=Europe/Paris:20210314T180000
DTSTAMP:20260425T061652
CREATED:20200805T160556Z
LAST-MODIFIED:20200805T170206Z
UID:6078-1615708800-1615744800@cdby.fr
SUMMARY:BLACKBALL-2020-2021-FINALE CDB78-Mixte Nationale 2
DESCRIPTION:
URL:http://cdby.fr/event/blackball-2020-2021-finale-cdb78-mixte-nationale/
LOCATION:PBC – PHOENIX BILLARD CLUB\, 8 bis avenue charles de gaulles\, LE PECQ\, 78230\, France
CATEGORIES:Nationale 2 BB
ATTACH;FMTTYPE=image/jpeg:http://cdby.fr/wp-content/uploads/2017/07/LOGO-CDBY.jpg
ORGANIZER;CN="CDBY - Sportif Blackball":MAILTO:bap@cdby.fr
END:VEVENT
BEGIN:VEVENT
DTSTART;TZID=Europe/Paris:20210319T080000
DTEND;TZID=Europe/Paris:20210321T180000
DTSTAMP:20260425T061652
CREATED:20200805T155951Z
LAST-MODIFIED:20200805T160133Z
UID:6074-1616140800-1616349600@cdby.fr
SUMMARY:BLACKBALL 2020-2021 - TN5 - LES HERBIERS
DESCRIPTION:Inscriptions sur le site fédéral : \nBAP FFB SPORTIF
URL:http://cdby.fr/event/blackball-2020-2021-tn5-les-herbiers/
LOCATION:Autres\, France
CATEGORIES:Nationale 2 BB
ATTACH;FMTTYPE=image/png:http://cdby.fr/wp-content/uploads/2017/08/logo-haut.png
END:VEVENT
BEGIN:VEVENT
DTSTART;TZID=Europe/Paris:20210320T090000
DTEND;TZID=Europe/Paris:20210320T170000
DTSTAMP:20260425T061652
CREATED:20200818T141712Z
LAST-MODIFIED:20201214T095824Z
UID:6219-1616230800-1616259600@cdby.fr
SUMMARY:LIBRE N3 - T2 - 20/03/21
DESCRIPTION:
URL:http://cdby.fr/event/libre-n3-t2-20-03-21/
LOCATION:BCB (Billard Club de Buchelay)\, 6\, rue Gabriel Péri\, Buchelay\, 78200\, France
CATEGORIES:National 3
END:VEVENT
BEGIN:VEVENT
DTSTART;VALUE=DATE:20210321
DTEND;VALUE=DATE:20210322
DTSTAMP:20260425T061652
CREATED:20200813T070457Z
LAST-MODIFIED:20200815T130647Z
UID:6156-1616284800-1616371199@cdby.fr
SUMMARY:CARAMBOLE FEMININE 2020-2021-T1-3 BANDES
DESCRIPTION:Inscriptions sur le site de la LBIF : \n \nINSCRIPTIONS \n  \n  \n 
URL:http://cdby.fr/event/carambole-feminine-2020-2021-t1-3-bandes/
LOCATION:Autres\, France
CATEGORIES:3 bandes
ATTACH;FMTTYPE=image/jpeg:http://cdby.fr/wp-content/uploads/2017/09/LBIF-e1505077463369.jpg
END:VEVENT
BEGIN:VEVENT
DTSTART;TZID=Europe/Paris:20210327T090000
DTEND;TZID=Europe/Paris:20210327T170000
DTSTAMP:20260425T061652
CREATED:20200818T141925Z
LAST-MODIFIED:20201214T095917Z
UID:6221-1616835600-1616864400@cdby.fr
SUMMARY:BANDE R1 - T2 - 27/03/21
DESCRIPTION:
URL:http://cdby.fr/event/bande-r1-t2-27-03-21/
CATEGORIES:Régional 1
END:VEVENT
BEGIN:VEVENT
DTSTART;TZID=Europe/Paris:20210327T090000
DTEND;TZID=Europe/Paris:20210327T170000
DTSTAMP:20260425T061652
CREATED:20200818T142113Z
LAST-MODIFIED:20201214T100009Z
UID:6223-1616835600-1616864400@cdby.fr
SUMMARY:BANDE R2 - T2 - 27/03/21
DESCRIPTION:
URL:http://cdby.fr/event/bande-r2-t2-27-03-21/
CATEGORIES:Régional 2
END:VEVENT
BEGIN:VEVENT
DTSTART;VALUE=DATE:20210328
DTEND;VALUE=DATE:20210329
DTSTAMP:20260425T061652
CREATED:20200813T065410Z
LAST-MODIFIED:20200815T130539Z
UID:6143-1616889600-1616975999@cdby.fr
SUMMARY:CARAMBOLE FEMININE 2020-2021-T3-LIBRE
DESCRIPTION:Inscriptions sur le site de la LBIF : \n \nINSCRIPTIONS \n  \n  \n 
URL:http://cdby.fr/event/carambole-feminine-2020-2021-t3-libre/
LOCATION:Autres\, France
CATEGORIES:Libre
ATTACH;FMTTYPE=image/jpeg:http://cdby.fr/wp-content/uploads/2017/09/LBIF-e1505077463369.jpg
END:VEVENT
END:VCALENDAR