BEGIN:VCALENDAR
VERSION:2.0
PRODID:-//CDB Yvelines - ECPv6.15.20//NONSGML v1.0//EN
CALSCALE:GREGORIAN
METHOD:PUBLISH
X-ORIGINAL-URL:http://cdby.fr
X-WR-CALDESC:Évènements pour CDB Yvelines
REFRESH-INTERVAL;VALUE=DURATION:PT1H
X-Robots-Tag:noindex
X-PUBLISHED-TTL:PT1H
BEGIN:VTIMEZONE
TZID:Europe/Paris
BEGIN:DAYLIGHT
TZOFFSETFROM:+0100
TZOFFSETTO:+0200
TZNAME:CEST
DTSTART:20250330T010000
END:DAYLIGHT
BEGIN:STANDARD
TZOFFSETFROM:+0200
TZOFFSETTO:+0100
TZNAME:CET
DTSTART:20251026T010000
END:STANDARD
BEGIN:DAYLIGHT
TZOFFSETFROM:+0100
TZOFFSETTO:+0200
TZNAME:CEST
DTSTART:20260329T010000
END:DAYLIGHT
BEGIN:STANDARD
TZOFFSETFROM:+0200
TZOFFSETTO:+0100
TZNAME:CET
DTSTART:20261025T010000
END:STANDARD
BEGIN:DAYLIGHT
TZOFFSETFROM:+0100
TZOFFSETTO:+0200
TZNAME:CEST
DTSTART:20270328T010000
END:DAYLIGHT
BEGIN:STANDARD
TZOFFSETFROM:+0200
TZOFFSETTO:+0100
TZNAME:CET
DTSTART:20271031T010000
END:STANDARD
END:VTIMEZONE
BEGIN:VEVENT
DTSTART;TZID=Europe/Paris:20260313T093000
DTEND;TZID=Europe/Paris:20260313T123000
DTSTAMP:20260424T112523
CREATED:20260220T071320Z
LAST-MODIFIED:20260302T143815Z
UID:12591-1773394200-1773405000@cdby.fr
SUMMARY:Formation M.Nole Vernouillet - Vendredi 13 mars 9h30.
DESCRIPTION:Stage CD BY Vernouillet le vendredi 13 mars de 9h30 à 12h30\, thème du Stage. Point de rappel et tiers de Billard
URL:http://cdby.fr/event/formation-m-nole-vernouillet-vendredi-13-mars-9h30/
LOCATION:ASEV (Association St-Etienne de Vernouillet )\, 6\, rue du Val de Seine\, Vernouillet\, 78540\, France
CATEGORIES:Formation sportive
ORGANIZER;CN="CDBY - formation":MAILTO:formation@cdby.fr
END:VEVENT
END:VCALENDAR