BEGIN:VCALENDAR
VERSION:2.0
PRODID:-//CDB Yvelines - ECPv6.15.20//NONSGML v1.0//EN
CALSCALE:GREGORIAN
METHOD:PUBLISH
X-WR-CALNAME:CDB Yvelines
X-ORIGINAL-URL:http://cdby.fr
X-WR-CALDESC:Évènements pour CDB Yvelines
REFRESH-INTERVAL;VALUE=DURATION:PT1H
X-Robots-Tag:noindex
X-PUBLISHED-TTL:PT1H
BEGIN:VTIMEZONE
TZID:Europe/Paris
BEGIN:DAYLIGHT
TZOFFSETFROM:+0100
TZOFFSETTO:+0200
TZNAME:CEST
DTSTART:20250330T010000
END:DAYLIGHT
BEGIN:STANDARD
TZOFFSETFROM:+0200
TZOFFSETTO:+0100
TZNAME:CET
DTSTART:20251026T010000
END:STANDARD
BEGIN:DAYLIGHT
TZOFFSETFROM:+0100
TZOFFSETTO:+0200
TZNAME:CEST
DTSTART:20260329T010000
END:DAYLIGHT
BEGIN:STANDARD
TZOFFSETFROM:+0200
TZOFFSETTO:+0100
TZNAME:CET
DTSTART:20261025T010000
END:STANDARD
BEGIN:DAYLIGHT
TZOFFSETFROM:+0100
TZOFFSETTO:+0200
TZNAME:CEST
DTSTART:20270328T010000
END:DAYLIGHT
BEGIN:STANDARD
TZOFFSETFROM:+0200
TZOFFSETTO:+0100
TZNAME:CET
DTSTART:20271031T010000
END:STANDARD
END:VTIMEZONE
BEGIN:VEVENT
DTSTART;TZID=Europe/Paris:20260309T093000
DTEND;TZID=Europe/Paris:20260309T123000
DTSTAMP:20260425T164920
CREATED:20260129T181705Z
LAST-MODIFIED:20260129T181705Z
UID:12547-1773048600-1773059400@cdby.fr
SUMMARY:Stage Formation M.Nole - Lundi 9 mars - Buchelay
DESCRIPTION:Stage lundi 9 mars 9h30 12h30 ouvert à tous\nBuchelay
URL:http://cdby.fr/event/stage-formation-m-nole-lundi-9-mars-buchelay/
LOCATION:BCB (Billard Club de Buchelay)\, 6\, rue Gabriel Péri\, Buchelay\, 78200\, France
CATEGORIES:Formation sportive
ORGANIZER;CN="CDBY - formation":MAILTO:formation@cdby.fr
END:VEVENT
BEGIN:VEVENT
DTSTART;TZID=Europe/Paris:20260313T093000
DTEND;TZID=Europe/Paris:20260313T123000
DTSTAMP:20260425T164920
CREATED:20260220T071320Z
LAST-MODIFIED:20260302T143815Z
UID:12591-1773394200-1773405000@cdby.fr
SUMMARY:Formation M.Nole Vernouillet - Vendredi 13 mars 9h30.
DESCRIPTION:Stage CD BY Vernouillet le vendredi 13 mars de 9h30 à 12h30\, thème du Stage. Point de rappel et tiers de Billard
URL:http://cdby.fr/event/formation-m-nole-vernouillet-vendredi-13-mars-9h30/
LOCATION:ASEV (Association St-Etienne de Vernouillet )\, 6\, rue du Val de Seine\, Vernouillet\, 78540\, France
CATEGORIES:Formation sportive
ORGANIZER;CN="CDBY - formation":MAILTO:formation@cdby.fr
END:VEVENT
BEGIN:VEVENT
DTSTART;TZID=Europe/Paris:20260317T190000
DTEND;TZID=Europe/Paris:20260317T220000
DTSTAMP:20260425T164920
CREATED:20260304T142427Z
LAST-MODIFIED:20260304T142427Z
UID:12614-1773774000-1773784800@cdby.fr
SUMMARY:Stage formation M.Nole - Versailles - 17 mars 19h.
DESCRIPTION:Stage à Versailles le mardi 17 mars de 19 heures à 22 heures ouvert à tous. * \nPoint de rappel et la gestuelle
URL:http://cdby.fr/event/stage-formation-m-nole-versailles-17-mars-19h/
LOCATION:ARBV (Académie Royale de Billard de Versailles)\, 6\, rue Edmé Frémy\, Versailles\, 78000\, France
CATEGORIES:Formation sportive
ORGANIZER;CN="CDBY - formation":MAILTO:formation@cdby.fr
END:VEVENT
BEGIN:VEVENT
DTSTART;TZID=Europe/Paris:20260327T093000
DTEND;TZID=Europe/Paris:20260327T123000
DTSTAMP:20260425T164920
CREATED:20260321T075658Z
LAST-MODIFIED:20260321T075736Z
UID:12646-1774603800-1774614600@cdby.fr
SUMMARY:Stage formation M.Nole - Vernouillet - 9h30 - 12h30
DESCRIPTION:Vernouillet le 27 mars de 9h30 à 12h30 point de rappel et tiers de billard
URL:http://cdby.fr/event/stage-formation-m-nole-vernouillet-9h30-12h30/
LOCATION:ASEV (Association St-Etienne de Vernouillet )\, 6\, rue du Val de Seine\, Vernouillet\, 78540\, France
CATEGORIES:Formation sportive
ORGANIZER;CN="CDBY - formation":MAILTO:formation@cdby.fr
END:VEVENT
BEGIN:VEVENT
DTSTART;TZID=Europe/Paris:20260331T180000
DTEND;TZID=Europe/Paris:20260331T210000
DTSTAMP:20260425T164920
CREATED:20260304T142238Z
LAST-MODIFIED:20260304T142238Z
UID:12612-1774980000-1774990800@cdby.fr
SUMMARY:Stage formation M.Nole - Velizy - 31 mars 18h
DESCRIPTION:Stage à Velizy mardi 31 mars 18 heures à 21h ouvert à tous\, le thème: \nPoint de rappel et tiers de Billard
URL:http://cdby.fr/event/stage-formation-m-nole-velizy-31-mars-18h/
LOCATION:Club de Vélizy\, Espace Jean-lucien Vazeille\, Vélizy\, Yvelines\, 78140\, France
CATEGORIES:Formation sportive
ORGANIZER;CN="CDBY - formation":MAILTO:formation@cdby.fr
END:VEVENT
END:VCALENDAR