BEGIN:VCALENDAR
VERSION:2.0
PRODID:-//CDB Yvelines - ECPv6.15.20//NONSGML v1.0//EN
CALSCALE:GREGORIAN
METHOD:PUBLISH
X-ORIGINAL-URL:http://cdby.fr
X-WR-CALDESC:Évènements pour CDB Yvelines
REFRESH-INTERVAL;VALUE=DURATION:PT1H
X-Robots-Tag:noindex
X-PUBLISHED-TTL:PT1H
BEGIN:VTIMEZONE
TZID:Europe/Paris
BEGIN:DAYLIGHT
TZOFFSETFROM:+0100
TZOFFSETTO:+0200
TZNAME:CEST
DTSTART:20210328T010000
END:DAYLIGHT
BEGIN:STANDARD
TZOFFSETFROM:+0200
TZOFFSETTO:+0100
TZNAME:CET
DTSTART:20211031T010000
END:STANDARD
BEGIN:DAYLIGHT
TZOFFSETFROM:+0100
TZOFFSETTO:+0200
TZNAME:CEST
DTSTART:20220327T010000
END:DAYLIGHT
BEGIN:STANDARD
TZOFFSETFROM:+0200
TZOFFSETTO:+0100
TZNAME:CET
DTSTART:20221030T010000
END:STANDARD
BEGIN:DAYLIGHT
TZOFFSETFROM:+0100
TZOFFSETTO:+0200
TZNAME:CEST
DTSTART:20230326T010000
END:DAYLIGHT
BEGIN:STANDARD
TZOFFSETFROM:+0200
TZOFFSETTO:+0100
TZNAME:CET
DTSTART:20231029T010000
END:STANDARD
END:VTIMEZONE
BEGIN:VEVENT
DTSTART;TZID=Europe/Paris:20220307T180000
DTEND;TZID=Europe/Paris:20220307T210000
DTSTAMP:20260423T060903
CREATED:20220218T162756Z
LAST-MODIFIED:20220218T162756Z
UID:7492-1646676000-1646686800@cdby.fr
SUMMARY:Formation Carambole Vernouillet 07/03/2022
DESCRIPTION:Inscription auprès de Stéphane Nole au 06-62-32-09-90.
URL:http://cdby.fr/event/formation-carambole-vernouillet-07-03-2022/
LOCATION:ASEV (Association St-Etienne de Vernouillet )\, 6\, rue du Val de Seine\, Vernouillet\, 78540\, France
CATEGORIES:Formation sportive
ATTACH;FMTTYPE=image/png:http://cdby.fr/wp-content/uploads/2017/08/EcuVernouillet.png
ORGANIZER;CN="CDBY - formation":MAILTO:formation@cdby.fr
END:VEVENT
END:VCALENDAR