BEGIN:VCALENDAR
VERSION:2.0
PRODID:-//CDB Yvelines - ECPv6.15.20//NONSGML v1.0//EN
CALSCALE:GREGORIAN
METHOD:PUBLISH
X-ORIGINAL-URL:http://cdby.fr
X-WR-CALDESC:Évènements pour CDB Yvelines
REFRESH-INTERVAL;VALUE=DURATION:PT1H
X-Robots-Tag:noindex
X-PUBLISHED-TTL:PT1H
BEGIN:VTIMEZONE
TZID:Europe/Paris
BEGIN:DAYLIGHT
TZOFFSETFROM:+0100
TZOFFSETTO:+0200
TZNAME:CEST
DTSTART:20210328T010000
END:DAYLIGHT
BEGIN:STANDARD
TZOFFSETFROM:+0200
TZOFFSETTO:+0100
TZNAME:CET
DTSTART:20211031T010000
END:STANDARD
BEGIN:DAYLIGHT
TZOFFSETFROM:+0100
TZOFFSETTO:+0200
TZNAME:CEST
DTSTART:20220327T010000
END:DAYLIGHT
BEGIN:STANDARD
TZOFFSETFROM:+0200
TZOFFSETTO:+0100
TZNAME:CET
DTSTART:20221030T010000
END:STANDARD
BEGIN:DAYLIGHT
TZOFFSETFROM:+0100
TZOFFSETTO:+0200
TZNAME:CEST
DTSTART:20230326T010000
END:DAYLIGHT
BEGIN:STANDARD
TZOFFSETFROM:+0200
TZOFFSETTO:+0100
TZNAME:CET
DTSTART:20231029T010000
END:STANDARD
END:VTIMEZONE
BEGIN:VEVENT
DTSTART;TZID=Europe/Paris:20220129T090000
DTEND;TZID=Europe/Paris:20220129T170000
DTSTAMP:20260423T203355
CREATED:20210906T162922Z
LAST-MODIFIED:20220202T104732Z
UID:6902-1643446800-1643475600@cdby.fr
SUMMARY:LIBRE N3-T2-29/01/2022
DESCRIPTION:
URL:http://cdby.fr/event/libre-n3-t2-29-01-2022/
CATEGORIES:National 3
END:VEVENT
BEGIN:VEVENT
DTSTART;TZID=Europe/Paris:20220129T093000
DTEND;TZID=Europe/Paris:20220129T180000
DTSTAMP:20260423T203355
CREATED:20211031T102817Z
LAST-MODIFIED:20220122T105404Z
UID:7154-1643448600-1643479200@cdby.fr
SUMMARY:Formation Sportive Réservée aux NR2-29 janvier 2022
DESCRIPTION:
URL:http://cdby.fr/event/formation-sportive-reservee-aux-nr2-29-janvier2022/
LOCATION:PBC – PHOENIX BILLARD CLUB\, 8 bis avenue charles de gaulles\, LE PECQ\, 78230\, France
CATEGORIES:Formation sportive
ATTACH;FMTTYPE=image/png:http://cdby.fr/wp-content/uploads/2020/01/LOGO-PHOENIX-CLUB.png
ORGANIZER;CN="CDBY - formation":MAILTO:formation@cdby.fr
END:VEVENT
END:VCALENDAR