BEGIN:VCALENDAR
VERSION:2.0
PRODID:-//CDB Yvelines - ECPv6.15.20//NONSGML v1.0//EN
CALSCALE:GREGORIAN
METHOD:PUBLISH
X-ORIGINAL-URL:http://cdby.fr
X-WR-CALDESC:Évènements pour CDB Yvelines
REFRESH-INTERVAL;VALUE=DURATION:PT1H
X-Robots-Tag:noindex
X-PUBLISHED-TTL:PT1H
BEGIN:VTIMEZONE
TZID:Europe/Paris
BEGIN:DAYLIGHT
TZOFFSETFROM:+0100
TZOFFSETTO:+0200
TZNAME:CEST
DTSTART:20200329T010000
END:DAYLIGHT
BEGIN:STANDARD
TZOFFSETFROM:+0200
TZOFFSETTO:+0100
TZNAME:CET
DTSTART:20201025T010000
END:STANDARD
BEGIN:DAYLIGHT
TZOFFSETFROM:+0100
TZOFFSETTO:+0200
TZNAME:CEST
DTSTART:20210328T010000
END:DAYLIGHT
BEGIN:STANDARD
TZOFFSETFROM:+0200
TZOFFSETTO:+0100
TZNAME:CET
DTSTART:20211031T010000
END:STANDARD
BEGIN:DAYLIGHT
TZOFFSETFROM:+0100
TZOFFSETTO:+0200
TZNAME:CEST
DTSTART:20220327T010000
END:DAYLIGHT
BEGIN:STANDARD
TZOFFSETFROM:+0200
TZOFFSETTO:+0100
TZNAME:CET
DTSTART:20221030T010000
END:STANDARD
END:VTIMEZONE
BEGIN:VEVENT
DTSTART;TZID=Europe/Paris:20210416T080000
DTEND;TZID=Europe/Paris:20210418T180000
DTSTAMP:20260425T043812
CREATED:20200805T155608Z
LAST-MODIFIED:20200805T155608Z
UID:6068-1618560000-1618768800@cdby.fr
SUMMARY:BLACKBALL 2020-2021 - TN6 - AGEN
DESCRIPTION:Inscriptions sur le site fédéral : \nBAP FFB SPORTIF
URL:http://cdby.fr/event/blackball-2020-2021-tn6-agen/
LOCATION:Autres\, France
CATEGORIES:Nationale 2 BB
ATTACH;FMTTYPE=image/png:http://cdby.fr/wp-content/uploads/2017/08/logo-haut.png
END:VEVENT
BEGIN:VEVENT
DTSTART;VALUE=DATE:20210418
DTEND;VALUE=DATE:20210419
DTSTAMP:20260425T043812
CREATED:20200813T070354Z
LAST-MODIFIED:20200815T130637Z
UID:6154-1618704000-1618790399@cdby.fr
SUMMARY:CARAMBOLE FEMININE 2020-2021-FINALE-3 BANDES
DESCRIPTION:Inscriptions sur le site de la LBIF : \n \nINSCRIPTIONS \n  \n  \n 
URL:http://cdby.fr/event/carambole-feminine-2020-2021-finale-3-bandes/
LOCATION:Autres\, France
CATEGORIES:3 bandes
ATTACH;FMTTYPE=image/jpeg:http://cdby.fr/wp-content/uploads/2017/09/LBIF-e1505077463369.jpg
END:VEVENT
END:VCALENDAR